BEGIN:VCALENDAR
VERSION:2.0
PRODID:-//دليل كايرو 360 للقاهرة، مصر - ECPv5.5.0.1//NONSGML v1.0//EN
CALSCALE:GREGORIAN
METHOD:PUBLISH
X-WR-CALNAME:دليل كايرو 360 للقاهرة، مصر
X-ORIGINAL-URL:https://www.cairo360.com/ar/
X-WR-CALDESC:Events for دليل كايرو 360 للقاهرة، مصر
BEGIN:VTIMEZONE
TZID:Europe/Helsinki
BEGIN:DAYLIGHT
TZOFFSETFROM:+0200
TZOFFSETTO:+0300
TZNAME:EEST
DTSTART:20260329T010000
END:DAYLIGHT
BEGIN:STANDARD
TZOFFSETFROM:+0300
TZOFFSETTO:+0200
TZNAME:EET
DTSTART:20261025T010000
END:STANDARD
END:VTIMEZONE
BEGIN:VEVENT
DTSTART;TZID=Europe/Helsinki:20260425T150000
DTEND;TZID=Europe/Helsinki:20260425T220000
DTSTAMP:20260424T182932
CREATED:20260424T101117Z
LAST-MODIFIED:20260424T101117Z
UID:1805787-1777129200-1777154400@www.cairo360.com
SUMMARY:تجربة اليوغا والصوت في ريف حبشي
DESCRIPTION:استمتع بالتدفق، والاستماع، والاسترخاء في تجربة اليوغا والصوت (النسخة الثانية) في ريف حبشي يوم السبت 25 أبريل. \nالتفاصيل هنا.
URL:https://www.cairo360.com/ar/event-new/%d8%aa%d8%ac%d8%b1%d8%a8%d8%a9-%d8%a7%d9%84%d9%8a%d9%88%d8%ba%d8%a7-%d9%88%d8%a7%d9%84%d8%b5%d9%88%d8%aa-%d9%81%d9%8a-%d8%b1%d9%8a%d9%81-%d8%ad%d8%a8%d8%b4%d9%8a/
LOCATION:ريف حبشي
CATEGORIES:فن وثقافة
ATTACH;FMTTYPE=image/jpeg:https://assets.cairo360.com/app/uploads/2026/04/23/FastDl.dev_670726257_18573310648018941_2435344374972881165_n.jpg
END:VEVENT
END:VCALENDAR