BEGIN:VCALENDAR
VERSION:2.0
PRODID:-//دليل كايرو 360 للقاهرة، مصر - ECPv5.5.0.1//NONSGML v1.0//EN
CALSCALE:GREGORIAN
METHOD:PUBLISH
X-WR-CALNAME:دليل كايرو 360 للقاهرة، مصر
X-ORIGINAL-URL:https://www.cairo360.com/ar/
X-WR-CALDESC:Events for دليل كايرو 360 للقاهرة، مصر
BEGIN:VTIMEZONE
TZID:Europe/Helsinki
BEGIN:DAYLIGHT
TZOFFSETFROM:+0200
TZOFFSETTO:+0300
TZNAME:EEST
DTSTART:20210328T010000
END:DAYLIGHT
BEGIN:STANDARD
TZOFFSETFROM:+0300
TZOFFSETTO:+0200
TZNAME:EET
DTSTART:20211031T010000
END:STANDARD
END:VTIMEZONE
BEGIN:VEVENT
DTSTART;TZID=Europe/Helsinki:20210927T200000
DTEND;TZID=Europe/Helsinki:20210927T220000
DTSTAMP:20260424T102522
CREATED:20210915T082915Z
LAST-MODIFIED:20210915T083235Z
UID:1686088-1632772800-1632780000@www.cairo360.com
SUMMARY:حفلة ريستال جيتار مع وحيد ممدوح
DESCRIPTION:استمتعوا بحفلة ريستال جيتار مع وحيد ممدوح في أوبرا القاهرة بتذكرة سعرها 60 جنيه.. التفاصيل من هنا.
URL:https://www.cairo360.com/ar/event-new/%d8%ad%d9%81%d9%84%d8%a9-%d8%b1%d9%8a%d8%b3%d8%aa%d8%a7%d9%84-%d8%ac%d9%8a%d8%aa%d8%a7%d8%b1-%d9%85%d8%b9-%d9%88%d8%ad%d9%8a%d8%af-%d9%85%d9%85%d8%af%d9%88%d8%ad/
LOCATION:أوبرا القاهرة
CATEGORIES:فن وثقافة
ATTACH;FMTTYPE=image/jpeg:https://assets.cairo360.com/app/uploads/2021/09/09/92571-45750172.jpg
END:VEVENT
END:VCALENDAR