BEGIN:VCALENDAR
VERSION:2.0
PRODID:-//دليل كايرو 360 للقاهرة، مصر - ECPv5.5.0.1//NONSGML v1.0//EN
CALSCALE:GREGORIAN
METHOD:PUBLISH
X-WR-CALNAME:دليل كايرو 360 للقاهرة، مصر
X-ORIGINAL-URL:https://www.cairo360.com/ar/
X-WR-CALDESC:Events for دليل كايرو 360 للقاهرة، مصر
BEGIN:VTIMEZONE
TZID:Europe/Helsinki
BEGIN:DAYLIGHT
TZOFFSETFROM:+0200
TZOFFSETTO:+0300
TZNAME:EEST
DTSTART:20210328T010000
END:DAYLIGHT
BEGIN:STANDARD
TZOFFSETFROM:+0300
TZOFFSETTO:+0200
TZNAME:EET
DTSTART:20211031T010000
END:STANDARD
END:VTIMEZONE
BEGIN:VEVENT
DTSTART;TZID=Europe/Helsinki:20211004T210000
DTEND;TZID=Europe/Helsinki:20211004T230000
DTSTAMP:20260426T000617
CREATED:20210922T085701Z
LAST-MODIFIED:20210922T085701Z
UID:1686506-1633381200-1633388400@www.cairo360.com
SUMMARY:حفلة شروق النوبي في رووم آرت سبيس
DESCRIPTION:استمتعوا بحفلة الفنانة شروق النوبي في رووم آرت سبيس القاهرة الجديدة بتذكرة سعرها 150 جنيه.. التفاصيل من هنا.
URL:https://www.cairo360.com/ar/event-new/%d8%ad%d9%81%d9%84%d8%a9-%d8%b4%d8%b1%d9%88%d9%82-%d8%a7%d9%84%d9%86%d9%88%d8%a8%d9%8a-%d9%81%d9%8a-%d8%b1%d9%88%d9%88%d9%85-%d8%a2%d8%b1%d8%aa-%d8%b3%d8%a8%d9%8a%d8%b3/
LOCATION:رووم آرت سبيس – القاهرة الجديدة\, سبوت مول - التجمع الأول - القاهرة الجديدة\, القاهرة الجديدة\, مصر
ATTACH;FMTTYPE=image/jpeg:https://assets.cairo360.com/app/uploads/2021/09/22/242618734_4341237365958638_758274561413379855_n.jpg
END:VEVENT
END:VCALENDAR