BEGIN:VCALENDAR
VERSION:2.0
PRODID:-//دليل كايرو 360 للقاهرة، مصر - ECPv5.5.0.1//NONSGML v1.0//EN
CALSCALE:GREGORIAN
METHOD:PUBLISH
X-WR-CALNAME:دليل كايرو 360 للقاهرة، مصر
X-ORIGINAL-URL:https://www.cairo360.com/ar/
X-WR-CALDESC:Events for دليل كايرو 360 للقاهرة، مصر
BEGIN:VTIMEZONE
TZID:Europe/Helsinki
BEGIN:DAYLIGHT
TZOFFSETFROM:+0200
TZOFFSETTO:+0300
TZNAME:EEST
DTSTART:20210328T010000
END:DAYLIGHT
BEGIN:STANDARD
TZOFFSETFROM:+0300
TZOFFSETTO:+0200
TZNAME:EET
DTSTART:20211031T010000
END:STANDARD
END:VTIMEZONE
BEGIN:VEVENT
DTSTART;TZID=Europe/Helsinki:20210930T200000
DTEND;TZID=Europe/Helsinki:20210930T220000
DTSTAMP:20260424T110348
CREATED:20210916T082607Z
LAST-MODIFIED:20210916T082607Z
UID:1686189-1633032000-1633039200@www.cairo360.com
SUMMARY:حفلة عازفة الهارب ياسمين الحربي
DESCRIPTION:استمتعوا بعزف الهارب مع ياسمين الحربي في أوبرا القاهرة بتذكرة سعرها 85 جنيه.. التفاصيل من هنا.
URL:https://www.cairo360.com/ar/event-new/%d8%ad%d9%81%d9%84%d8%a9-%d8%b9%d8%a7%d8%b2%d9%81%d8%a9-%d8%a7%d9%84%d9%87%d8%a7%d8%b1%d8%a8-%d9%8a%d8%a7%d8%b3%d9%85%d9%8a%d9%86-%d8%a7%d9%84%d8%ad%d8%b1%d8%a8%d9%8a/
LOCATION:أوبرا القاهرة
CATEGORIES:فن وثقافة
ATTACH;FMTTYPE=image/jpeg:https://assets.cairo360.com/app/uploads/2021/09/09/92571-45750172.jpg
END:VEVENT
END:VCALENDAR