BEGIN:VCALENDAR
VERSION:2.0
PRODID:-//دليل كايرو 360 للقاهرة، مصر - ECPv5.5.0.1//NONSGML v1.0//EN
CALSCALE:GREGORIAN
METHOD:PUBLISH
X-WR-CALNAME:دليل كايرو 360 للقاهرة، مصر
X-ORIGINAL-URL:https://www.cairo360.com/ar/
X-WR-CALDESC:Events for دليل كايرو 360 للقاهرة، مصر
BEGIN:VTIMEZONE
TZID:Europe/Helsinki
BEGIN:DAYLIGHT
TZOFFSETFROM:+0200
TZOFFSETTO:+0300
TZNAME:EEST
DTSTART:20210328T010000
END:DAYLIGHT
BEGIN:STANDARD
TZOFFSETFROM:+0300
TZOFFSETTO:+0200
TZNAME:EET
DTSTART:20211031T010000
END:STANDARD
END:VTIMEZONE
BEGIN:VEVENT
DTSTART;TZID=Europe/Helsinki:20210930T210000
DTEND;TZID=Europe/Helsinki:20210930T230000
DTSTAMP:20260424T155021
CREATED:20210919T103547Z
LAST-MODIFIED:20210919T103547Z
UID:1686320-1633035600-1633042800@www.cairo360.com
SUMMARY:حفلة فريق تحت الصفر في جاردن سيتي
DESCRIPTION:استمتعوا بحفلة فريق تحت الصفر في رووم آرت سبيس جاردن سيتي بتذكرة سعرها 150 جنيه.. التفاصيل من هنا.
URL:https://www.cairo360.com/ar/event-new/%d8%ad%d9%81%d9%84%d8%a9-%d9%81%d8%b1%d9%8a%d9%82-%d8%aa%d8%ad%d8%aa-%d8%a7%d9%84%d8%b5%d9%81%d8%b1-%d9%81%d9%8a-%d8%ac%d8%a7%d8%b1%d8%af%d9%86-%d8%b3%d9%8a%d8%aa%d9%8a/
LOCATION:رووم آرت سبيس\, 10 اتحاد المحامين العرب - جاردن سيتي\, جاردن سيتي\, القاهرة\, مصر
CATEGORIES:فن وثقافة
ATTACH;FMTTYPE=image/jpeg:https://assets.cairo360.com/app/uploads/2021/09/19/242116736_4324462057636169_1738433255807533519_n.jpg
END:VEVENT
END:VCALENDAR