BEGIN:VCALENDAR
VERSION:2.0
PRODID:-//دليل كايرو 360 للقاهرة، مصر - ECPv5.5.0.1//NONSGML v1.0//EN
CALSCALE:GREGORIAN
METHOD:PUBLISH
X-WR-CALNAME:دليل كايرو 360 للقاهرة، مصر
X-ORIGINAL-URL:https://www.cairo360.com/ar/
X-WR-CALDESC:Events for دليل كايرو 360 للقاهرة، مصر
BEGIN:VTIMEZONE
TZID:Europe/Helsinki
BEGIN:DAYLIGHT
TZOFFSETFROM:+0200
TZOFFSETTO:+0300
TZNAME:EEST
DTSTART:20210328T010000
END:DAYLIGHT
BEGIN:STANDARD
TZOFFSETFROM:+0300
TZOFFSETTO:+0200
TZNAME:EET
DTSTART:20211031T010000
END:STANDARD
END:VTIMEZONE
BEGIN:VEVENT
DTSTART;TZID=Europe/Helsinki:20210917T190000
DTEND;TZID=Europe/Helsinki:20210917T210000
DTSTAMP:20260423T232730
CREATED:20210912T114630Z
LAST-MODIFIED:20210912T114630Z
UID:1685831-1631905200-1631912400@www.cairo360.com
SUMMARY:حفلة ميتال فريق تفاقم وكاتو حافظ
DESCRIPTION:استمتعوا بحفلة ميتال لفريق تفاقم وفريق كاتو حافظ درب 1718 بتذكرة سعرها 100 جنيه.. التفاصيل من هنا.
URL:https://www.cairo360.com/ar/event-new/%d8%ad%d9%81%d9%84%d8%a9-%d9%85%d9%8a%d8%aa%d8%a7%d9%84-%d9%81%d8%b1%d9%8a%d9%82-%d8%aa%d9%81%d8%a7%d9%82%d9%85-%d9%88%d9%83%d8%a7%d8%aa%d9%88-%d8%ad%d8%a7%d9%81%d8%b8/
LOCATION:درب 1718\, شارع قصر الشمع - الفخارين - مصر القديمة - بجوار مترو ماري جرجس\, الفسطاط الجديدة\, القاهرة\, مصر
CATEGORIES:فن وثقافة
ATTACH;FMTTYPE=image/jpeg:https://assets.cairo360.com/app/uploads/2021/09/12/240405652_4422789901075111_1056644674688664525_n.jpg
END:VEVENT
END:VCALENDAR