BEGIN:VCALENDAR
VERSION:2.0
PRODID:-//دليل كايرو 360 للقاهرة، مصر - ECPv5.5.0.1//NONSGML v1.0//EN
CALSCALE:GREGORIAN
METHOD:PUBLISH
X-WR-CALNAME:دليل كايرو 360 للقاهرة، مصر
X-ORIGINAL-URL:https://www.cairo360.com/ar/
X-WR-CALDESC:Events for دليل كايرو 360 للقاهرة، مصر
BEGIN:VTIMEZONE
TZID:Europe/Helsinki
BEGIN:DAYLIGHT
TZOFFSETFROM:+0200
TZOFFSETTO:+0300
TZNAME:EEST
DTSTART:20240331T010000
END:DAYLIGHT
BEGIN:STANDARD
TZOFFSETFROM:+0300
TZOFFSETTO:+0200
TZNAME:EET
DTSTART:20241027T010000
END:STANDARD
END:VTIMEZONE
BEGIN:VEVENT
DTSTART;TZID=Europe/Helsinki:20241019T203000
DTEND;TZID=Europe/Helsinki:20241019T233000
DTSTAMP:20260422T061923
CREATED:20241016T070451Z
LAST-MODIFIED:20241016T070533Z
UID:1770496-1729369800-1729380600@www.cairo360.com
SUMMARY:حفل الفنانة نادية مصطفى بصحبة الفرقة القومية العربية للموسيقي
DESCRIPTION:الفنانة نادية مصطفى هتقدم حفل بصحبة الفرقة القومية العربية للموسيقى على مسرح سيد درويش في الإسكندرية.. لتفاصيل أكتر هنـا.
URL:https://www.cairo360.com/ar/event-new/%d8%ad%d9%81%d9%84-%d8%a7%d9%84%d9%81%d9%86%d8%a7%d9%86%d8%a9-%d9%86%d8%a7%d8%af%d9%8a%d8%a9-%d9%85%d8%b5%d8%b7%d9%81%d9%89-%d8%a8%d8%b5%d8%ad%d8%a8%d8%a9-%d8%a7%d9%84%d9%81%d8%b1%d9%82%d8%a9-%d8%a7/
LOCATION:مسرح سيد درويش
CATEGORIES:فن وثقافة
ATTACH;FMTTYPE=image/png:https://assets.cairo360.com/app/uploads/2024/10/16/bc36c03f-4b19-4ead-93a8-4b1809a46014.png
END:VEVENT
END:VCALENDAR