BEGIN:VCALENDAR
VERSION:2.0
PRODID:-//دليل كايرو 360 للقاهرة، مصر - ECPv5.5.0.1//NONSGML v1.0//EN
CALSCALE:GREGORIAN
METHOD:PUBLISH
X-WR-CALNAME:دليل كايرو 360 للقاهرة، مصر
X-ORIGINAL-URL:https://www.cairo360.com/ar/
X-WR-CALDESC:Events for دليل كايرو 360 للقاهرة، مصر
BEGIN:VTIMEZONE
TZID:Europe/Helsinki
BEGIN:DAYLIGHT
TZOFFSETFROM:+0200
TZOFFSETTO:+0300
TZNAME:EEST
DTSTART:20240331T010000
END:DAYLIGHT
BEGIN:STANDARD
TZOFFSETFROM:+0300
TZOFFSETTO:+0200
TZNAME:EET
DTSTART:20241027T010000
END:STANDARD
END:VTIMEZONE
BEGIN:VEVENT
DTSTART;TZID=Europe/Helsinki:20241019T203000
DTEND;TZID=Europe/Helsinki:20241019T233000
DTSTAMP:20260421T032515
CREATED:20241016T070128Z
LAST-MODIFIED:20241016T070128Z
UID:1770495-1729369800-1729380600@www.cairo360.com
SUMMARY:حفل الفنان أحمد سعد على مسرح النافورة
DESCRIPTION:الفنان أحمد سعد هيقدم حفل مميز على مسرح النافورة، وده ضمن حفلات مهرجان الموسيقى العربية.. لتفاصيل أكتر هنـا.
URL:https://www.cairo360.com/ar/event-new/%d8%ad%d9%81%d9%84-%d8%a7%d9%84%d9%81%d9%86%d8%a7%d9%86-%d8%a3%d8%ad%d9%85%d8%af-%d8%b3%d8%b9%d8%af-%d8%b9%d9%84%d9%89-%d9%85%d8%b3%d8%b1%d8%ad-%d8%a7%d9%84%d9%86%d8%a7%d9%81%d9%88%d8%b1%d8%a9/
LOCATION:الاوبرا
CATEGORIES:فن وثقافة
ATTACH;FMTTYPE=image/png:https://assets.cairo360.com/app/uploads/2024/10/16/786d265e-71b2-4425-9ad7-74e3a692de15.png
END:VEVENT
END:VCALENDAR