BEGIN:VCALENDAR
VERSION:2.0
PRODID:-//دليل كايرو 360 للقاهرة، مصر - ECPv5.5.0.1//NONSGML v1.0//EN
CALSCALE:GREGORIAN
METHOD:PUBLISH
X-WR-CALNAME:دليل كايرو 360 للقاهرة، مصر
X-ORIGINAL-URL:https://www.cairo360.com/ar/
X-WR-CALDESC:Events for دليل كايرو 360 للقاهرة، مصر
BEGIN:VTIMEZONE
TZID:Europe/Helsinki
BEGIN:DAYLIGHT
TZOFFSETFROM:+0200
TZOFFSETTO:+0300
TZNAME:EEST
DTSTART:20240331T010000
END:DAYLIGHT
BEGIN:STANDARD
TZOFFSETFROM:+0300
TZOFFSETTO:+0200
TZNAME:EET
DTSTART:20241027T010000
END:STANDARD
END:VTIMEZONE
BEGIN:VEVENT
DTSTART;TZID=Europe/Helsinki:20240328T210000
DTEND;TZID=Europe/Helsinki:20240328T230000
DTSTAMP:20260422T201638
CREATED:20240316T113157Z
LAST-MODIFIED:20240316T113157Z
UID:1754673-1711659600-1711666800@www.cairo360.com
SUMMARY:حفل فرقة الأحباب في الساقية
DESCRIPTION:لكل عشاق الإنشاد الصوفي، استمتعوا بحفل إنشاد لفرقة الأحباب في ساقية عبد المنعم الصاوي. سعر التذكرة يبدأ من 100 جنيه.. لتفاصيل أكتر هنــا.
URL:https://www.cairo360.com/ar/event-new/%d8%ad%d9%81%d9%84-%d9%81%d8%b1%d9%82%d8%a9-%d8%a7%d9%84%d8%a3%d8%ad%d8%a8%d8%a7%d8%a8-%d9%81%d9%8a-%d8%a7%d9%84%d8%b3%d8%a7%d9%82%d9%8a%d8%a9/
LOCATION:ساقية الصاوي
CATEGORIES:فن وثقافة
ATTACH;FMTTYPE=image/jpeg:https://assets.cairo360.com/app/uploads/2024/03/16/thumb_19314_620_620_0_0_crop.jpg
END:VEVENT
END:VCALENDAR