BEGIN:VCALENDAR
VERSION:2.0
PRODID:-//دليل كايرو 360 للقاهرة، مصر - ECPv5.5.0.1//NONSGML v1.0//EN
CALSCALE:GREGORIAN
METHOD:PUBLISH
X-WR-CALNAME:دليل كايرو 360 للقاهرة، مصر
X-ORIGINAL-URL:https://www.cairo360.com/ar/
X-WR-CALDESC:Events for دليل كايرو 360 للقاهرة، مصر
BEGIN:VTIMEZONE
TZID:Europe/Helsinki
BEGIN:DAYLIGHT
TZOFFSETFROM:+0200
TZOFFSETTO:+0300
TZNAME:EEST
DTSTART:20240331T010000
END:DAYLIGHT
BEGIN:STANDARD
TZOFFSETFROM:+0300
TZOFFSETTO:+0200
TZNAME:EET
DTSTART:20241027T010000
END:STANDARD
END:VTIMEZONE
BEGIN:VEVENT
DTSTART;TZID=Europe/Helsinki:20241018T203000
DTEND;TZID=Europe/Helsinki:20241018T233000
DTSTAMP:20260422T151425
CREATED:20241016T071540Z
LAST-MODIFIED:20241016T071540Z
UID:1770504-1729283400-1729294200@www.cairo360.com
SUMMARY:حفل فرقة الإنشاد الديني على مسرح الجمهورية
DESCRIPTION:استمتعوا بحفل لفرقة الإنشاد الديني على مسرح الجمهورية.. لتفاصيل أكتر هنا.
URL:https://www.cairo360.com/ar/event-new/%d8%ad%d9%81%d9%84-%d9%81%d8%b1%d9%82%d8%a9-%d8%a7%d9%84%d8%a5%d9%86%d8%b4%d8%a7%d8%af-%d8%a7%d9%84%d8%af%d9%8a%d9%86%d9%8a-%d8%b9%d9%84%d9%89-%d9%85%d8%b3%d8%b1%d8%ad-%d8%a7%d9%84%d8%ac%d9%85%d9%87-2/
LOCATION:مسرح الجمهورية
CATEGORIES:فن وثقافة
ATTACH;FMTTYPE=image/png:https://assets.cairo360.com/app/uploads/2024/10/16/cff1da94-9ed6-45ba-95b6-9b0f1045bb31.png
END:VEVENT
END:VCALENDAR