BEGIN:VCALENDAR
VERSION:2.0
PRODID:-//دليل كايرو 360 للقاهرة، مصر - ECPv5.5.0.1//NONSGML v1.0//EN
CALSCALE:GREGORIAN
METHOD:PUBLISH
X-WR-CALNAME:دليل كايرو 360 للقاهرة، مصر
X-ORIGINAL-URL:https://www.cairo360.com/ar/
X-WR-CALDESC:Events for دليل كايرو 360 للقاهرة، مصر
BEGIN:VTIMEZONE
TZID:Europe/Helsinki
BEGIN:DAYLIGHT
TZOFFSETFROM:+0200
TZOFFSETTO:+0300
TZNAME:EEST
DTSTART:20240331T010000
END:DAYLIGHT
BEGIN:STANDARD
TZOFFSETFROM:+0300
TZOFFSETTO:+0200
TZNAME:EET
DTSTART:20241027T010000
END:STANDARD
END:VTIMEZONE
BEGIN:VEVENT
DTSTART;TZID=Europe/Helsinki:20240528T203000
DTEND;TZID=Europe/Helsinki:20240528T233000
DTSTAMP:20260423T105404
CREATED:20240528T091333Z
LAST-MODIFIED:20240528T091333Z
UID:1759841-1716928200-1716939000@www.cairo360.com
SUMMARY:حفل "كلثوميات" في معهد الموسيقى العربية
DESCRIPTION:فرقة عبد الحليم نويرة للموسيقى العربية هتقدم حفل “كلثوميات” في معهد الموسيقى العربية. سعر التذكرة يبدأ من 260 جنيه.. لتفاصيل أكتر هنــا.
URL:https://www.cairo360.com/ar/event-new/%d8%ad%d9%81%d9%84-%d9%83%d9%84%d8%ab%d9%88%d9%85%d9%8a%d8%a7%d8%aa-%d9%81%d9%8a-%d9%85%d8%b9%d9%87%d8%af-%d8%a7%d9%84%d9%85%d9%88%d8%b3%d9%8a%d9%82%d9%89-%d8%a7%d9%84%d8%b9%d8%b1%d8%a8%d9%8a-2/
CATEGORIES:فن وثقافة
ATTACH;FMTTYPE=image/jpeg:https://assets.cairo360.com/app/uploads/2024/05/28/5de7c84e-92dd-4576-8848-fff133d12821.jpeg
END:VEVENT
END:VCALENDAR