BEGIN:VCALENDAR
VERSION:2.0
PRODID:-//دليل كايرو 360 للقاهرة، مصر - ECPv5.5.0.1//NONSGML v1.0//EN
CALSCALE:GREGORIAN
METHOD:PUBLISH
X-WR-CALNAME:دليل كايرو 360 للقاهرة، مصر
X-ORIGINAL-URL:https://www.cairo360.com/ar/
X-WR-CALDESC:Events for دليل كايرو 360 للقاهرة، مصر
BEGIN:VTIMEZONE
TZID:Europe/Helsinki
BEGIN:DAYLIGHT
TZOFFSETFROM:+0200
TZOFFSETTO:+0300
TZNAME:EEST
DTSTART:20230326T010000
END:DAYLIGHT
BEGIN:STANDARD
TZOFFSETFROM:+0300
TZOFFSETTO:+0200
TZNAME:EET
DTSTART:20231029T010000
END:STANDARD
END:VTIMEZONE
BEGIN:VEVENT
DTSTART;TZID=Europe/Helsinki:20231214T200000
DTEND;TZID=Europe/Helsinki:20231214T220000
DTSTAMP:20260421T040432
CREATED:20231212T110040Z
LAST-MODIFIED:20231212T110040Z
UID:1746346-1702584000-1702591200@www.cairo360.com
SUMMARY:عرض "كازينو بديعة" في مكان
DESCRIPTION:اسمتعتوا بعرض “كازينو بديعة” واللي هيأخدكم في رحلة عبر الزمن علشان تسمعوا أحلى جو فلكلور من الزمن الجميل والنغم الشعبي الأصيل.. لتفاصيل أكتر هنا.
URL:https://www.cairo360.com/ar/event-new/%d8%b9%d8%b1%d8%b6-%d9%83%d8%a7%d8%b2%d9%8a%d9%86%d9%88-%d8%a8%d8%af%d9%8a%d8%b9%d8%a9-%d9%81%d9%8a-%d9%85%d9%83%d8%a7%d9%86/
LOCATION:مركز مكان\, 1 شارع سعد زغلول وسط البلد\, وسط البلد\, مصر
CATEGORIES:فن وثقافة
ATTACH;FMTTYPE=image/jpeg:https://assets.cairo360.com/app/uploads/2023/12/12/406697100_900166771477110_3549794900974439768_n.jpg
END:VEVENT
END:VCALENDAR