BEGIN:VCALENDAR
VERSION:2.0
PRODID:-//دليل كايرو 360 للقاهرة، مصر - ECPv5.5.0.1//NONSGML v1.0//EN
CALSCALE:GREGORIAN
METHOD:PUBLISH
X-WR-CALNAME:دليل كايرو 360 للقاهرة، مصر
X-ORIGINAL-URL:https://www.cairo360.com/ar/
X-WR-CALDESC:Events for دليل كايرو 360 للقاهرة، مصر
BEGIN:VTIMEZONE
TZID:Europe/Helsinki
BEGIN:DAYLIGHT
TZOFFSETFROM:+0200
TZOFFSETTO:+0300
TZNAME:EEST
DTSTART:20240331T010000
END:DAYLIGHT
BEGIN:STANDARD
TZOFFSETFROM:+0300
TZOFFSETTO:+0200
TZNAME:EET
DTSTART:20241027T010000
END:STANDARD
END:VTIMEZONE
BEGIN:VEVENT
DTSTART;TZID=Europe/Helsinki:20240918T200000
DTEND;TZID=Europe/Helsinki:20240918T220000
DTSTAMP:20260423T190512
CREATED:20240918T091620Z
LAST-MODIFIED:20240918T091620Z
UID:1768755-1726689600-1726696800@www.cairo360.com
SUMMARY:فرقة "لوكا والبطيخ" في بوم رووم
DESCRIPTION:استمتعوا بـسهرة جاز مميزة. فرقة “لوكا والبطيخ” في بوم رووم. التفاصيل هنا. \n  \n\n\n 
URL:https://www.cairo360.com/ar/event-new/%d9%81%d8%b1%d9%82%d8%a9-%d9%84%d9%88%d9%83%d8%a7-%d9%88%d8%a7%d9%84%d8%a8%d8%b7%d9%8a%d8%ae-%d9%81%d9%8a-%d8%a8%d9%88%d9%85-%d8%b1%d9%88%d9%88%d9%85/
LOCATION:بوم رووم
CATEGORIES:فن وثقافة
ATTACH;FMTTYPE=image/jpeg:https://assets.cairo360.com/app/uploads/2024/09/18/459156231_895500255943081_597606696599002710_n-1-350x350-1.jpg
END:VEVENT
END:VCALENDAR