BEGIN:VCALENDAR
VERSION:2.0
PRODID:-//دليل كايرو 360 للقاهرة، مصر - ECPv5.5.0.1//NONSGML v1.0//EN
CALSCALE:GREGORIAN
METHOD:PUBLISH
X-WR-CALNAME:دليل كايرو 360 للقاهرة، مصر
X-ORIGINAL-URL:https://www.cairo360.com/ar/
X-WR-CALDESC:Events for دليل كايرو 360 للقاهرة، مصر
BEGIN:VTIMEZONE
TZID:Europe/Helsinki
BEGIN:DAYLIGHT
TZOFFSETFROM:+0200
TZOFFSETTO:+0300
TZNAME:EEST
DTSTART:20250330T010000
END:DAYLIGHT
BEGIN:STANDARD
TZOFFSETFROM:+0300
TZOFFSETTO:+0200
TZNAME:EET
DTSTART:20251026T010000
END:STANDARD
END:VTIMEZONE
BEGIN:VEVENT
DTSTART;TZID=Europe/Helsinki:20250714T200000
DTEND;TZID=Europe/Helsinki:20250714T230000
DTSTAMP:20260423T154237
CREATED:20250714T081437Z
LAST-MODIFIED:20250714T081437Z
UID:1788875-1752523200-1752534000@www.cairo360.com
SUMMARY:كاسيت 90 في رووم التجمع الخامس
DESCRIPTION:يوم كامل من الحنين لزمن التسعينات مع “كاسيت 90” في Room Art Space – القاهرة الجديدة يوم الاثنين 14 يوليو. استعدوا لأجواء نوستالجيا لا تُنسى مع أجمل أغاني التسعينات! \nتفاصيل أكثر هنا. \n  \n  \n  \n  \n 
URL:https://www.cairo360.com/ar/event-new/%d9%83%d8%a7%d8%b3%d9%8a%d8%aa-90-%d9%81%d9%8a-%d8%b1%d9%88%d9%88%d9%85-%d8%a7%d9%84%d8%aa%d8%ac%d9%85%d8%b9-%d8%a7%d9%84%d8%ae%d8%a7%d9%85%d8%b3/
LOCATION:رووم آرت سبيس – القاهرة الجديدة\, سبوت مول - التجمع الأول - القاهرة الجديدة\, القاهرة الجديدة\, مصر
CATEGORIES:فن وثقافة
ATTACH;FMTTYPE=image/jpeg:https://assets.cairo360.com/app/uploads/2025/07/13/SnapClip.App_516248144_17977299482853836_1664821523022211110_n.jpg
END:VEVENT
END:VCALENDAR