BEGIN:VCALENDAR
VERSION:2.0
PRODID:-//دليل كايرو 360 للقاهرة، مصر - ECPv5.5.0.1//NONSGML v1.0//EN
CALSCALE:GREGORIAN
METHOD:PUBLISH
X-WR-CALNAME:دليل كايرو 360 للقاهرة، مصر
X-ORIGINAL-URL:https://www.cairo360.com/ar/
X-WR-CALDESC:Events for دليل كايرو 360 للقاهرة، مصر
BEGIN:VTIMEZONE
TZID:Europe/Helsinki
BEGIN:DAYLIGHT
TZOFFSETFROM:+0200
TZOFFSETTO:+0300
TZNAME:EEST
DTSTART:20210328T010000
END:DAYLIGHT
BEGIN:STANDARD
TZOFFSETFROM:+0300
TZOFFSETTO:+0200
TZNAME:EET
DTSTART:20211031T010000
END:STANDARD
END:VTIMEZONE
BEGIN:VEVENT
DTSTART;TZID=Europe/Helsinki:20210916T193000
DTEND;TZID=Europe/Helsinki:20210916T213000
DTSTAMP:20260426T000546
CREATED:20210912T101239Z
LAST-MODIFIED:20210912T101239Z
UID:1685795-1631820600-1631827800@www.cairo360.com
SUMMARY:مسرحية كوميدية غنائية في ساقية الصاوي
DESCRIPTION:استمتعوا بمسرحية فريق المبهجين الكوميدية الغنائية في ساقية الصاوي بتذكرة سعرها 70 جنيه.. التفاصيل من هنا.
URL:https://www.cairo360.com/ar/event-new/%d9%85%d8%b3%d8%b1%d8%ad%d9%8a%d8%a9-%d9%83%d9%88%d9%85%d9%8a%d8%af%d9%8a%d8%a9-%d8%ba%d9%86%d8%a7%d8%a6%d9%8a%d8%a9-%d9%81%d9%8a-%d8%b3%d8%a7%d9%82%d9%8a%d8%a9-%d8%a7%d9%84%d8%b5%d8%a7%d9%88%d9%8a/
LOCATION:ساقية الصاوي
CATEGORIES:فن وثقافة
ATTACH;FMTTYPE=image/jpeg:https://assets.cairo360.com/app/uploads/2021/09/12/240517766_359059372371957_8471536441732863126_n.jpg
END:VEVENT
END:VCALENDAR