BEGIN:VCALENDAR
VERSION:2.0
PRODID:-//دليل كايرو 360 للقاهرة، مصر - ECPv5.5.0.1//NONSGML v1.0//EN
CALSCALE:GREGORIAN
METHOD:PUBLISH
X-WR-CALNAME:دليل كايرو 360 للقاهرة، مصر
X-ORIGINAL-URL:https://www.cairo360.com/ar/
X-WR-CALDESC:Events for دليل كايرو 360 للقاهرة، مصر
BEGIN:VTIMEZONE
TZID:Europe/Helsinki
BEGIN:DAYLIGHT
TZOFFSETFROM:+0200
TZOFFSETTO:+0300
TZNAME:EEST
DTSTART:20210328T010000
END:DAYLIGHT
BEGIN:STANDARD
TZOFFSETFROM:+0300
TZOFFSETTO:+0200
TZNAME:EET
DTSTART:20211031T010000
END:STANDARD
END:VTIMEZONE
BEGIN:VEVENT
DTSTART;TZID=Europe/Helsinki:20210906T180000
DTEND;TZID=Europe/Helsinki:20210908T210000
DTSTAMP:20260423T142426
CREATED:20210906T131819Z
LAST-MODIFIED:20210906T131819Z
UID:1685222-1630951200-1631134800@www.cairo360.com
SUMMARY:مهرجان الألعاب المجانية في الحرم اليوناني
DESCRIPTION:استمتعوا بألعاب البلاي ستيشن في الحرم اليوناني مجانًا مع جوائز مميزة.. التفاصيل من هنا.
URL:https://www.cairo360.com/ar/event-new/%d9%85%d9%87%d8%b1%d8%ac%d8%a7%d9%86-%d8%a7%d9%84%d8%a3%d9%84%d8%b9%d8%a7%d8%a8-%d8%a7%d9%84%d9%85%d8%ac%d8%a7%d9%86%d9%8a%d8%a9-%d9%81%d9%8a-%d8%a7%d9%84%d8%ad%d8%b1%d9%85-%d8%a7%d9%84%d9%8a%d9%88/
LOCATION:الحرم اليوناني\, تقاطع شارع يوسف الجندي مع باب اللوق - عابدين\, وسط البلد\, القاهرة\, مصر
CATEGORIES:فن وثقافة
ATTACH;FMTTYPE=image/jpeg:https://assets.cairo360.com/app/uploads/2021/09/06/240520609_4026908960754539_1466168948411479593_n.jpg
END:VEVENT
END:VCALENDAR