BEGIN:VCALENDAR
VERSION:2.0
PRODID:-//دليل كايرو 360 للقاهرة، مصر - ECPv5.5.0.1//NONSGML v1.0//EN
CALSCALE:GREGORIAN
METHOD:PUBLISH
X-WR-CALNAME:دليل كايرو 360 للقاهرة، مصر
X-ORIGINAL-URL:https://www.cairo360.com/ar/
X-WR-CALDESC:Events for دليل كايرو 360 للقاهرة، مصر
BEGIN:VTIMEZONE
TZID:Europe/Helsinki
BEGIN:DAYLIGHT
TZOFFSETFROM:+0200
TZOFFSETTO:+0300
TZNAME:EEST
DTSTART:20260329T010000
END:DAYLIGHT
BEGIN:STANDARD
TZOFFSETFROM:+0300
TZOFFSETTO:+0200
TZNAME:EET
DTSTART:20261025T010000
END:STANDARD
END:VTIMEZONE
BEGIN:VEVENT
DTSTART;TZID=Europe/Helsinki:20260421T200000
DTEND;TZID=Europe/Helsinki:20260421T230000
DTSTAMP:20260422T060951
CREATED:20260421T055208Z
LAST-MODIFIED:20260421T055208Z
UID:1805630-1776801600-1776812400@www.cairo360.com
SUMMARY:هرفوش مع دي جي بيتر في ستوريا
DESCRIPTION:يعود إلى ستوريا الفنان هرفوش، برفقة دي جي بيتر، يوم الثلاثاء 21 أبريل. \nالتفاصيل هنا.
URL:https://www.cairo360.com/ar/event-new/%d9%87%d8%b1%d9%81%d9%88%d8%b4-%d9%85%d8%b9-%d8%af%d9%8a-%d8%ac%d9%8a-%d8%a8%d9%8a%d8%aa%d8%b1-%d9%81%d9%8a-%d8%b3%d8%aa%d9%88%d8%b1%d9%8a%d8%a7/
LOCATION:Storia Katameya Heights
CATEGORIES:فن وثقافة
ATTACH;FMTTYPE=image/jpeg:https://assets.cairo360.com/app/uploads/2026/04/20/FastDl.dev_655757310_17921862285312704_4777637495051513174_n.jpg
END:VEVENT
END:VCALENDAR