BEGIN:VCALENDAR
VERSION:2.0
PRODID:-//دليل كايرو 360 للقاهرة، مصر - ECPv5.5.0.1//NONSGML v1.0//EN
CALSCALE:GREGORIAN
METHOD:PUBLISH
X-WR-CALNAME:دليل كايرو 360 للقاهرة، مصر
X-ORIGINAL-URL:https://www.cairo360.com/ar/
X-WR-CALDESC:Events for دليل كايرو 360 للقاهرة، مصر
BEGIN:VTIMEZONE
TZID:Europe/Helsinki
BEGIN:DAYLIGHT
TZOFFSETFROM:+0200
TZOFFSETTO:+0300
TZNAME:EEST
DTSTART:20250330T010000
END:DAYLIGHT
BEGIN:STANDARD
TZOFFSETFROM:+0300
TZOFFSETTO:+0200
TZNAME:EET
DTSTART:20251026T010000
END:STANDARD
END:VTIMEZONE
BEGIN:VEVENT
DTSTART;TZID=Europe/Helsinki:20250714T200000
DTEND;TZID=Europe/Helsinki:20250714T230000
DTSTAMP:20260421T163320
CREATED:20250714T081805Z
LAST-MODIFIED:20250714T081805Z
UID:1788877-1752523200-1752534000@www.cairo360.com
SUMMARY:Jesuit Cairo صالون "طائة" لايف في
DESCRIPTION:استعدوا لأمسية مليئة بالتفاعل والإبداع مع صالون طاقة المباشر في اليسوعيين بالقاهرة يوم الاثنين 14 يوليو. \nتفاصيل أكثر هنا. \n  \n  \n  \n  \n 
URL:https://www.cairo360.com/ar/event-new/jesuit-cairo-%d8%b5%d8%a7%d9%84%d9%88%d9%86-%d8%b7%d8%a7%d8%a6%d8%a9-%d9%84%d8%a7%d9%8a%d9%81-%d9%81%d9%8a/
LOCATION:Jesuit Cairo
CATEGORIES:فن وثقافة
ATTACH;FMTTYPE=image/jpeg:https://assets.cairo360.com/app/uploads/2025/07/13/Ta2a-22Live-Salon22-.jpg
END:VEVENT
END:VCALENDAR