BEGIN:VCALENDAR
VERSION:2.0
PRODID:-//Cairo 360 Guide to Cairo, Egypt - ECPv5.5.0.1//NONSGML v1.0//EN
CALSCALE:GREGORIAN
METHOD:PUBLISH
X-WR-CALNAME:Cairo 360 Guide to Cairo, Egypt
X-ORIGINAL-URL:https://www.cairo360.com
X-WR-CALDESC:Events for Cairo 360 Guide to Cairo, Egypt
BEGIN:VTIMEZONE
TZID:Europe/Helsinki
BEGIN:DAYLIGHT
TZOFFSETFROM:+0200
TZOFFSETTO:+0300
TZNAME:EEST
DTSTART:20210328T010000
END:DAYLIGHT
BEGIN:STANDARD
TZOFFSETFROM:+0300
TZOFFSETTO:+0200
TZNAME:EET
DTSTART:20211031T010000
END:STANDARD
END:VTIMEZONE
BEGIN:VEVENT
DTSTART;TZID=Europe/Helsinki:20210908T200000
DTEND;TZID=Europe/Helsinki:20210908T200000
DTSTAMP:20260424T123850
CREATED:20210907T150028Z
LAST-MODIFIED:20210907T150028Z
UID:1685475-1631131200-1631131200@www.cairo360.com
SUMMARY:3al Intaج ft. A.K at Cairo Jazz Club
DESCRIPTION:Rap maestro DJ A.K is taking over Cairo Jazz Club this Wednesday\, along with a number of surprise guests from the rap scene. Curious to know who? \nReserve your table at Cairo Jazz Club by sending them a Facebook message between 12:00 PM to 8:00 PM.
URL:https://www.cairo360.com/event-new/3al-inta%d8%ac-ft-a-k-at-cairo-jazz-club/
LOCATION:Cairo Jazz Club\, 197 A\, 26th of July St Cairo\, Cairo\, 12654\, Egypt
CATEGORIES:Club,Nightlife
ATTACH;FMTTYPE=image/jpeg:https://assets.cairo360.com/app/uploads/2021/09/07/CJC.jpg
END:VEVENT
END:VCALENDAR