BEGIN:VCALENDAR
VERSION:2.0
PRODID:-//Cairo 360 Guide to Cairo, Egypt - ECPv5.5.0.1//NONSGML v1.0//EN
CALSCALE:GREGORIAN
METHOD:PUBLISH
X-WR-CALNAME:Cairo 360 Guide to Cairo, Egypt
X-ORIGINAL-URL:https://www.cairo360.com
X-WR-CALDESC:Events for Cairo 360 Guide to Cairo, Egypt
BEGIN:VTIMEZONE
TZID:Europe/Helsinki
BEGIN:DAYLIGHT
TZOFFSETFROM:+0200
TZOFFSETTO:+0300
TZNAME:EEST
DTSTART:20240331T010000
END:DAYLIGHT
BEGIN:STANDARD
TZOFFSETFROM:+0300
TZOFFSETTO:+0200
TZNAME:EET
DTSTART:20241027T010000
END:STANDARD
END:VTIMEZONE
BEGIN:VEVENT
DTSTART;TZID=Europe/Helsinki:20241010T110000
DTEND;TZID=Europe/Helsinki:20241030T230000
DTSTAMP:20260422T085338
CREATED:20241015T145424Z
LAST-MODIFIED:20241015T145424Z
UID:1770360-1728558000-1730329200@www.cairo360.com
SUMMARY:Art D' Egypte: Cairo International Art District's 4th Edition
DESCRIPTION:Don’t miss this amazing art journey taking place from the 10th to the 30th of October at Cinema Radio\, Access Art Space & The Factory. \nClick this link to know more!
URL:https://www.cairo360.com/event-new/art-d-egypte-cairo-international-art-districts-4th-edition/
LOCATION:The Factory\, Townhouse Gallery
CATEGORIES:Arts & Culture
ATTACH;FMTTYPE=image/png:https://assets.cairo360.com/app/uploads/2024/10/15/Screen-Shot-2024-10-15-at-5.49.57-PM.png
END:VEVENT
END:VCALENDAR