BEGIN:VCALENDAR
VERSION:2.0
PRODID:-//Cairo 360 Guide to Cairo, Egypt - ECPv5.5.0.1//NONSGML v1.0//EN
CALSCALE:GREGORIAN
METHOD:PUBLISH
X-WR-CALNAME:Cairo 360 Guide to Cairo, Egypt
X-ORIGINAL-URL:https://www.cairo360.com
X-WR-CALDESC:Events for Cairo 360 Guide to Cairo, Egypt
BEGIN:VTIMEZONE
TZID:Europe/Helsinki
BEGIN:DAYLIGHT
TZOFFSETFROM:+0200
TZOFFSETTO:+0300
TZNAME:EEST
DTSTART:20250330T010000
END:DAYLIGHT
BEGIN:STANDARD
TZOFFSETFROM:+0300
TZOFFSETTO:+0200
TZNAME:EET
DTSTART:20251026T010000
END:STANDARD
END:VTIMEZONE
BEGIN:VEVENT
DTSTART;TZID=Europe/Helsinki:20250205T200000
DTEND;TZID=Europe/Helsinki:20250228T230000
DTSTAMP:20260425T000940
CREATED:20250204T221147Z
LAST-MODIFIED:20250204T221147Z
UID:1778400-1738785600-1740783600@www.cairo360.com
SUMMARY:Authentic Middle Eastern Cuisine at Nubian Village Restaurant
DESCRIPTION:Experience authentic Middle Eastern cuisine at the Nubian Village Restaurant\, located at the Hilton Cairo Grand Nile. Indulge in delicious dishes while enjoying enchanting views of the Nile. The atmosphere is further enhanced by a daily live folkloric show\, running from 8:00 PM to 11:00 PM. For more details and reservations\, contact +2 02 23651234 or +201153388874.
URL:https://www.cairo360.com/event-new/authentic-middle-eastern-cuisine-at-nubian-village-restaurant/
LOCATION:Grand Nile Tower\, Corniche El Nil\, Garden City\, Roda Island\, Cairo
CATEGORIES:Restaurants
ATTACH;FMTTYPE=image/png:https://assets.cairo360.com/app/uploads/2025/02/05/Screen-Shot-2025-02-05-at-12.08.29-AM.png
END:VEVENT
END:VCALENDAR