BEGIN:VCALENDAR
VERSION:2.0
PRODID:-//Cairo 360 Guide to Cairo, Egypt - ECPv5.5.0.1//NONSGML v1.0//EN
CALSCALE:GREGORIAN
METHOD:PUBLISH
X-WR-CALNAME:Cairo 360 Guide to Cairo, Egypt
X-ORIGINAL-URL:https://www.cairo360.com
X-WR-CALDESC:Events for Cairo 360 Guide to Cairo, Egypt
BEGIN:VTIMEZONE
TZID:Europe/Helsinki
BEGIN:DAYLIGHT
TZOFFSETFROM:+0200
TZOFFSETTO:+0300
TZNAME:EEST
DTSTART:20220327T010000
END:DAYLIGHT
BEGIN:STANDARD
TZOFFSETFROM:+0300
TZOFFSETTO:+0200
TZNAME:EET
DTSTART:20221030T010000
END:STANDARD
END:VTIMEZONE
BEGIN:VEVENT
DTSTART;TZID=Europe/Helsinki:20220119T200000
DTEND;TZID=Europe/Helsinki:20220119T233000
DTSTAMP:20260421T030821
CREATED:20220119T152754Z
LAST-MODIFIED:20220119T152754Z
UID:1698469-1642622400-1642635000@www.cairo360.com
SUMMARY:Boogie Night at Cairo Jazz Club
DESCRIPTION:Today\, January 19\, Cairo Jazz Club is throwing it back with disco music played by DJunkie! You’ll have a full night of dancing to anthems you’ve missed\, so come prepared to move your feet and party all night. The night starts at 8.00 pm and ends at 1.00 am. To book your seat\, send CJC a Facebook message between 12pm and 8pm. 
URL:https://www.cairo360.com/event-new/boogie-night-at-cairo-jazz-club/
LOCATION:Cairo Jazz Club\, 197 A\, 26th of July St Cairo\, Cairo\, 12654\, Egypt
CATEGORIES:Bar,Music,Nightlife
ATTACH;FMTTYPE=image/jpeg:https://assets.cairo360.com/app/uploads/2022/01/19/271671250_5297730953588364_5036846005808831674_n.jpeg
END:VEVENT
END:VCALENDAR