BEGIN:VCALENDAR
VERSION:2.0
PRODID:-//Cairo 360 Guide to Cairo, Egypt - ECPv5.5.0.1//NONSGML v1.0//EN
CALSCALE:GREGORIAN
METHOD:PUBLISH
X-WR-CALNAME:Cairo 360 Guide to Cairo, Egypt
X-ORIGINAL-URL:https://www.cairo360.com
X-WR-CALDESC:Events for Cairo 360 Guide to Cairo, Egypt
BEGIN:VTIMEZONE
TZID:Europe/Helsinki
BEGIN:DAYLIGHT
TZOFFSETFROM:+0200
TZOFFSETTO:+0300
TZNAME:EEST
DTSTART:20240331T010000
END:DAYLIGHT
BEGIN:STANDARD
TZOFFSETFROM:+0300
TZOFFSETTO:+0200
TZNAME:EET
DTSTART:20241027T010000
END:STANDARD
END:VTIMEZONE
BEGIN:VEVENT
DTSTART;TZID=Europe/Helsinki:20241219T200000
DTEND;TZID=Europe/Helsinki:20241220T233000
DTSTAMP:20260425T211211
CREATED:20241218T045302Z
LAST-MODIFIED:20241218T045302Z
UID:1774328-1734638400-1734737400@www.cairo360.com
SUMMARY:Cairo Steps at Cairo Opera House
DESCRIPTION:Enjoy fusion of Oriental jazz and traditional Egyptian music with Cairo Steps at Cairo Opera House on December 19th and 20th.  \nFor more information\, click here.
URL:https://www.cairo360.com/event-new/cairo-steps-at-cairo-opera-house/
LOCATION:Cairo Opera House\, Ard El Opera - Gezira - Zamalek Cairo Opera House Cairo\,\, Cairo\, 11567\, Egypt
CATEGORIES:Arts & Culture
ATTACH;FMTTYPE=image/jpeg:https://assets.cairo360.com/app/uploads/2024/12/18/3bb807da-3a66-4b26-b2f5-2087f229f443.jpeg
END:VEVENT
END:VCALENDAR