BEGIN:VCALENDAR
VERSION:2.0
PRODID:-//Cairo 360 Guide to Cairo, Egypt - ECPv5.5.0.1//NONSGML v1.0//EN
CALSCALE:GREGORIAN
METHOD:PUBLISH
X-WR-CALNAME:Cairo 360 Guide to Cairo, Egypt
X-ORIGINAL-URL:https://www.cairo360.com
X-WR-CALDESC:Events for Cairo 360 Guide to Cairo, Egypt
BEGIN:VTIMEZONE
TZID:Europe/Helsinki
BEGIN:DAYLIGHT
TZOFFSETFROM:+0200
TZOFFSETTO:+0300
TZNAME:EEST
DTSTART:20240331T010000
END:DAYLIGHT
BEGIN:STANDARD
TZOFFSETFROM:+0300
TZOFFSETTO:+0200
TZNAME:EET
DTSTART:20241027T010000
END:STANDARD
END:VTIMEZONE
BEGIN:VEVENT
DTSTART;TZID=Europe/Helsinki:20240704T200000
DTEND;TZID=Europe/Helsinki:20240704T233000
DTSTAMP:20260420T085750
CREATED:20240702T072517Z
LAST-MODIFIED:20240702T072517Z
UID:1762720-1720123200-1720135800@www.cairo360.com
SUMMARY:Classic Rock Night at ROOM Garden City
DESCRIPTION:If you are a rock music lover then this event is for you! Enjoy Classic Rock Night at ROOM Garden City on 4th of July. Hit this link to know more!
URL:https://www.cairo360.com/event-new/classic-rock-night-at-room-garden-city/
LOCATION:ROOM Art Space Garden City\, 10 Etehaad Al Mohamin st.\, Garden City\, Cairo\, 11562
CATEGORIES:Music,Nightlife,Rock
ATTACH;FMTTYPE=image/jpeg:https://assets.cairo360.com/app/uploads/2024/07/02/449440695_336975306113639_7971031725791522506_n.jpg
END:VEVENT
END:VCALENDAR