BEGIN:VCALENDAR
VERSION:2.0
PRODID:-//Cairo 360 Guide to Cairo, Egypt - ECPv5.5.0.1//NONSGML v1.0//EN
CALSCALE:GREGORIAN
METHOD:PUBLISH
X-WR-CALNAME:Cairo 360 Guide to Cairo, Egypt
X-ORIGINAL-URL:https://www.cairo360.com
X-WR-CALDESC:Events for Cairo 360 Guide to Cairo, Egypt
BEGIN:VTIMEZONE
TZID:Europe/Helsinki
BEGIN:DAYLIGHT
TZOFFSETFROM:+0200
TZOFFSETTO:+0300
TZNAME:EEST
DTSTART:20230326T010000
END:DAYLIGHT
BEGIN:STANDARD
TZOFFSETFROM:+0300
TZOFFSETTO:+0200
TZNAME:EET
DTSTART:20231029T010000
END:STANDARD
END:VTIMEZONE
BEGIN:VEVENT
DTSTART;TZID=Europe/Helsinki:20230225T200000
DTEND;TZID=Europe/Helsinki:20230225T200000
DTSTAMP:20260422T054857
CREATED:20230225T135010Z
LAST-MODIFIED:20230225T135010Z
UID:1727456-1677355200-1677355200@www.cairo360.com
SUMMARY:Comedy Stuff at Rawabet Art Space
DESCRIPTION:Join the fun at Rawabet Art Space this Saturday as a crazy lineup of insanely talented comedians helps you end your weekend on a good note. The lineup includes the biggest names in the scene\, like the opening act Ahmed Salem\, Shehab El Ashry\, Salma Al Najar\, Ahmed Magdy\, Ghada Salah\, Tawfik El Menshawy\, and Hassan Hossam.
URL:https://www.cairo360.com/event-new/comedy-stuff-at-rawabet-art-space/
LOCATION:Rawabet Art Space\, 5 Hussein Basha Al Meamari\, Marouf\, Qasr El Nil\, Cairo\, Egypt
CATEGORIES:Arts & Culture,Stand-Up Comedy Nights
ATTACH;FMTTYPE=image/jpeg:https://assets.cairo360.com/app/uploads/2023/02/25/comedy.jpg
END:VEVENT
END:VCALENDAR