BEGIN:VCALENDAR
VERSION:2.0
PRODID:-//Cairo 360 Guide to Cairo, Egypt - ECPv5.5.0.1//NONSGML v1.0//EN
CALSCALE:GREGORIAN
METHOD:PUBLISH
X-WR-CALNAME:Cairo 360 Guide to Cairo, Egypt
X-ORIGINAL-URL:https://www.cairo360.com
X-WR-CALDESC:Events for Cairo 360 Guide to Cairo, Egypt
BEGIN:VTIMEZONE
TZID:Europe/Helsinki
BEGIN:DAYLIGHT
TZOFFSETFROM:+0200
TZOFFSETTO:+0300
TZNAME:EEST
DTSTART:20240331T010000
END:DAYLIGHT
BEGIN:STANDARD
TZOFFSETFROM:+0300
TZOFFSETTO:+0200
TZNAME:EET
DTSTART:20241027T010000
END:STANDARD
END:VTIMEZONE
BEGIN:VEVENT
DTSTART;TZID=Europe/Helsinki:20240901T180000
DTEND;TZID=Europe/Helsinki:20240930T003000
DTSTAMP:20260421T122433
CREATED:20240904T125743Z
LAST-MODIFIED:20240904T133345Z
UID:1767964-1725213600-1727656200@www.cairo360.com
SUMMARY:Daily Romantic Dinner at the Revolving Restaurant\, Grand Nile Tower
DESCRIPTION:Experience a daily romantic dinner at the Revolving Restaurant in the Grand Nile Tower\, where you can indulge in a delightful dining experience from 6:00 PM to 12:30 AM. For an extra touch of excitement\, join on Thursdays\, Fridays\, and Saturdays to enjoy live entertainment that complements the exquisite ambience.  \nFor more information & bookings\, please call 02 23651234 / +201153388874
URL:https://www.cairo360.com/event-new/daily-romantic-dinner-at-the-revolving-restaurant-grand-nile-tower-5/
LOCATION:Grand Nile Tower\, Corniche El Nil\, Garden City\, Roda Island\, Cairo
CATEGORIES:City Life,Restaurants
ATTACH;FMTTYPE=image/png:https://assets.cairo360.com/app/uploads/2024/09/04/Screen-Shot-2024-09-04-at-4.30.08-PM.png
END:VEVENT
END:VCALENDAR