BEGIN:VCALENDAR
VERSION:2.0
PRODID:-//Cairo 360 Guide to Cairo, Egypt - ECPv5.5.0.1//NONSGML v1.0//EN
CALSCALE:GREGORIAN
METHOD:PUBLISH
X-WR-CALNAME:Cairo 360 Guide to Cairo, Egypt
X-ORIGINAL-URL:https://www.cairo360.com
X-WR-CALDESC:Events for Cairo 360 Guide to Cairo, Egypt
BEGIN:VTIMEZONE
TZID:Europe/Helsinki
BEGIN:DAYLIGHT
TZOFFSETFROM:+0200
TZOFFSETTO:+0300
TZNAME:EEST
DTSTART:20260329T010000
END:DAYLIGHT
BEGIN:STANDARD
TZOFFSETFROM:+0300
TZOFFSETTO:+0200
TZNAME:EET
DTSTART:20261025T010000
END:STANDARD
END:VTIMEZONE
BEGIN:VEVENT
DTSTART;TZID=Europe/Helsinki:20260206T200000
DTEND;TZID=Europe/Helsinki:20260206T233000
DTSTAMP:20260423T111020
CREATED:20260205T150954Z
LAST-MODIFIED:20260205T150954Z
UID:1801904-1770408000-1770420600@www.cairo360.com
SUMMARY:Disco Misr at The Village
DESCRIPTION:Kick off your Friday with Disco Misr at The Village West on February 6. \nFor more information\, hit this link!
URL:https://www.cairo360.com/event-new/disco-misr-at-the-village/
LOCATION:The Village West
CATEGORIES:Arts & Culture
ATTACH;FMTTYPE=image/jpeg:https://assets.cairo360.com/app/uploads/2026/02/05/FastDl.dev_626517661_17898549096383164_8003629325356251266_n.jpg
END:VEVENT
END:VCALENDAR