BEGIN:VCALENDAR
VERSION:2.0
PRODID:-//Cairo 360 Guide to Cairo, Egypt - ECPv5.5.0.1//NONSGML v1.0//EN
CALSCALE:GREGORIAN
METHOD:PUBLISH
X-WR-CALNAME:Cairo 360 Guide to Cairo, Egypt
X-ORIGINAL-URL:https://www.cairo360.com
X-WR-CALDESC:Events for Cairo 360 Guide to Cairo, Egypt
BEGIN:VTIMEZONE
TZID:Europe/Helsinki
BEGIN:DAYLIGHT
TZOFFSETFROM:+0200
TZOFFSETTO:+0300
TZNAME:EEST
DTSTART:20230326T010000
END:DAYLIGHT
BEGIN:STANDARD
TZOFFSETFROM:+0300
TZOFFSETTO:+0200
TZNAME:EET
DTSTART:20231029T010000
END:STANDARD
END:VTIMEZONE
BEGIN:VEVENT
DTSTART;TZID=Europe/Helsinki:20230207T080000
DTEND;TZID=Europe/Helsinki:20230207T170000
DTSTAMP:20260423T085902
CREATED:20230207T132953Z
LAST-MODIFIED:20230207T132953Z
UID:1725956-1675756800-1675789200@www.cairo360.com
SUMMARY:DJ Mohasseb at CJC 610
DESCRIPTION:Cairo Jazz Club are back with an unforgettable Electric Thursday ! Veteran DJ Mohasseb will pull an all-nighter with a masterful set that will keep you on your feet till it’s time to go home!
URL:https://www.cairo360.com/event-new/dj-mohasseb-at-cjc-610/
LOCATION:Cairo Jazz Club 610\, El Guezira Plaza\, Sheikh Zayed Cairo\, Cairo\, Egypt
CATEGORIES:Club,Nightlife
ATTACH;FMTTYPE=image/png:https://assets.cairo360.com/app/uploads/2023/02/07/Screenshot_20230207_032559.png
END:VEVENT
END:VCALENDAR