BEGIN:VCALENDAR
VERSION:2.0
PRODID:-//Cairo 360 Guide to Cairo, Egypt - ECPv5.5.0.1//NONSGML v1.0//EN
CALSCALE:GREGORIAN
METHOD:PUBLISH
X-WR-CALNAME:Cairo 360 Guide to Cairo, Egypt
X-ORIGINAL-URL:https://www.cairo360.com
X-WR-CALDESC:Events for Cairo 360 Guide to Cairo, Egypt
BEGIN:VTIMEZONE
TZID:Europe/Helsinki
BEGIN:DAYLIGHT
TZOFFSETFROM:+0200
TZOFFSETTO:+0300
TZNAME:EEST
DTSTART:20250330T010000
END:DAYLIGHT
BEGIN:STANDARD
TZOFFSETFROM:+0300
TZOFFSETTO:+0200
TZNAME:EET
DTSTART:20251026T010000
END:STANDARD
END:VTIMEZONE
BEGIN:VEVENT
DTSTART;TZID=Europe/Helsinki:20250124T190000
DTEND;TZID=Europe/Helsinki:20250124T233000
DTSTAMP:20260419T190133
CREATED:20250121T145941Z
LAST-MODIFIED:20250121T145941Z
UID:1776979-1737745200-1737761400@www.cairo360.com
SUMMARY:El Mouled at Panorama 6th October
DESCRIPTION:Embark on some cultural festivities with El Mouled at Panorama 6th October. It’s a night filled with great performances and more! \nFor more information\, click here. \n  \n  \n 
URL:https://www.cairo360.com/event-new/el-mouled-at-panorama-6th-october/
LOCATION:Panorama 6th October
CATEGORIES:Arts & Culture
ATTACH;FMTTYPE=image/webp:https://assets.cairo360.com/app/uploads/2025/01/21/d67527d5535e4f488a84fff301e05be2.webp
END:VEVENT
END:VCALENDAR