BEGIN:VCALENDAR
VERSION:2.0
PRODID:-//Cairo 360 Guide to Cairo, Egypt - ECPv5.5.0.1//NONSGML v1.0//EN
CALSCALE:GREGORIAN
METHOD:PUBLISH
X-WR-CALNAME:Cairo 360 Guide to Cairo, Egypt
X-ORIGINAL-URL:https://www.cairo360.com
X-WR-CALDESC:Events for Cairo 360 Guide to Cairo, Egypt
BEGIN:VTIMEZONE
TZID:Europe/Helsinki
BEGIN:DAYLIGHT
TZOFFSETFROM:+0200
TZOFFSETTO:+0300
TZNAME:EEST
DTSTART:20250330T010000
END:DAYLIGHT
BEGIN:STANDARD
TZOFFSETFROM:+0300
TZOFFSETTO:+0200
TZNAME:EET
DTSTART:20251026T010000
END:STANDARD
END:VTIMEZONE
BEGIN:VEVENT
DTSTART;TZID=Europe/Helsinki:20250214T180000
DTEND;TZID=Europe/Helsinki:20250214T210000
DTSTAMP:20260421T023041
CREATED:20250212T061825Z
LAST-MODIFIED:20250212T061825Z
UID:1779005-1739556000-1739566800@www.cairo360.com
SUMMARY:Find Your Tribe: An Osana Celebration
DESCRIPTION:For those looking to celebrate Valentine’s Day differently\, Osana’s ‘Find Your Tribe’ event on 14th February offers an inclusive and welcoming communal dining experience. With the belief that no one is ever truly a stranger\, guests will enjoy an evening filled with good company\, meaningful conversations\, and a carefully curated menu. The delicious spread includes Fennel & Orange Salad\, Creamy Truffle Wild Mushroom Risotto\, and Warm Dark Chocolate Fudge Cake\, ensuring a memorable dining experience. Priced at 950 EGP per person\, this event encourages guests to come solo\, as a couple\, or with friends and celebrate love in all its beautiful forms. \nFor more information\, click here.
URL:https://www.cairo360.com/event-new/find-your-tribe-an-osana-celebration/
LOCATION:Osana Family Wellness
CATEGORIES:Arts & Culture
ATTACH;FMTTYPE=image/jpeg:https://assets.cairo360.com/app/uploads/2025/02/12/SnapClip.App_476801119_18330050410082189_5346925744543898308_n.jpg
END:VEVENT
END:VCALENDAR