BEGIN:VCALENDAR
VERSION:2.0
PRODID:-//Cairo 360 Guide to Cairo, Egypt - ECPv5.5.0.1//NONSGML v1.0//EN
CALSCALE:GREGORIAN
METHOD:PUBLISH
X-WR-CALNAME:Cairo 360 Guide to Cairo, Egypt
X-ORIGINAL-URL:https://www.cairo360.com
X-WR-CALDESC:Events for Cairo 360 Guide to Cairo, Egypt
BEGIN:VTIMEZONE
TZID:Europe/Helsinki
BEGIN:DAYLIGHT
TZOFFSETFROM:+0200
TZOFFSETTO:+0300
TZNAME:EEST
DTSTART:20250330T010000
END:DAYLIGHT
BEGIN:STANDARD
TZOFFSETFROM:+0300
TZOFFSETTO:+0200
TZNAME:EET
DTSTART:20251026T010000
END:STANDARD
END:VTIMEZONE
BEGIN:VEVENT
DTSTART;TZID=Europe/Helsinki:20251122T200000
DTEND;TZID=Europe/Helsinki:20251122T220000
DTSTAMP:20260423T105232
CREATED:20251119T143151Z
LAST-MODIFIED:20251119T143151Z
UID:1797924-1763841600-1763848800@www.cairo360.com
SUMMARY:Gazaga - Emdan El Nour at El Sawy Culturewheel
DESCRIPTION:Catch Gazaga – Emdan El Nour at El Sawy Culturewheel on Saturday\, November 22. \nFor more information\, hit this link!
URL:https://www.cairo360.com/event-new/gazaga-emdan-el-nour-at-el-sawy-culturewheel/
LOCATION:El Sawy Culturewheel\, 26th of July street\, Zamalek\, Cairo\, 11211\, Egypt
CATEGORIES:Arts & Culture
ATTACH;FMTTYPE=image/png:https://assets.cairo360.com/app/uploads/2025/11/19/gazaga.png
END:VEVENT
END:VCALENDAR