BEGIN:VCALENDAR
VERSION:2.0
PRODID:-//Cairo 360 Guide to Cairo, Egypt - ECPv5.5.0.1//NONSGML v1.0//EN
CALSCALE:GREGORIAN
METHOD:PUBLISH
X-WR-CALNAME:Cairo 360 Guide to Cairo, Egypt
X-ORIGINAL-URL:https://www.cairo360.com
X-WR-CALDESC:Events for Cairo 360 Guide to Cairo, Egypt
BEGIN:VTIMEZONE
TZID:Europe/Helsinki
BEGIN:DAYLIGHT
TZOFFSETFROM:+0200
TZOFFSETTO:+0300
TZNAME:EEST
DTSTART:20260329T010000
END:DAYLIGHT
BEGIN:STANDARD
TZOFFSETFROM:+0300
TZOFFSETTO:+0200
TZNAME:EET
DTSTART:20261025T010000
END:STANDARD
END:VTIMEZONE
BEGIN:VEVENT
DTSTART;TZID=Europe/Helsinki:20260130T200000
DTEND;TZID=Europe/Helsinki:20260130T230000
DTSTAMP:20260424T123017
CREATED:20260127T132018Z
LAST-MODIFIED:20260127T132018Z
UID:1801552-1769803200-1769814000@www.cairo360.com
SUMMARY:Harp Recital ft. Yasmine El Harby & Nada El Zorkany at Small Theatre
DESCRIPTION:Experience Harp Recital by Yasmine El Harby and Nada El Zorkany at the Small Theatre on Friday\, January 30. \nFor more information\, hit this link!
URL:https://www.cairo360.com/event-new/harp-recital-ft-yasmine-el-harby-nada-el-zorkany-at-small-theatre/
LOCATION:Small Theatre
CATEGORIES:Arts & Culture
ATTACH;FMTTYPE=image/png:https://assets.cairo360.com/app/uploads/2026/01/27/harp-recital-jan-30.png
END:VEVENT
END:VCALENDAR