BEGIN:VCALENDAR
VERSION:2.0
PRODID:-//Cairo 360 Guide to Cairo, Egypt - ECPv5.5.0.1//NONSGML v1.0//EN
CALSCALE:GREGORIAN
METHOD:PUBLISH
X-WR-CALNAME:Cairo 360 Guide to Cairo, Egypt
X-ORIGINAL-URL:https://www.cairo360.com
X-WR-CALDESC:Events for Cairo 360 Guide to Cairo, Egypt
BEGIN:VTIMEZONE
TZID:Europe/Helsinki
BEGIN:DAYLIGHT
TZOFFSETFROM:+0200
TZOFFSETTO:+0300
TZNAME:EEST
DTSTART:20250330T010000
END:DAYLIGHT
BEGIN:STANDARD
TZOFFSETFROM:+0300
TZOFFSETTO:+0200
TZNAME:EET
DTSTART:20251026T010000
END:STANDARD
END:VTIMEZONE
BEGIN:VEVENT
DTSTART;TZID=Europe/Helsinki:20250321T210000
DTEND;TZID=Europe/Helsinki:20250321T233000
DTSTAMP:20260419T154849
CREATED:20250317T183801Z
LAST-MODIFIED:20250317T183801Z
UID:1781354-1742590800-1742599800@www.cairo360.com
SUMMARY:Haytham Shaker at AlKhima Tent
DESCRIPTION:This Friday night\, listen to Haytham Shaker’s tunes at AlKhima Tent. \nFor more information\, hit this link!
URL:https://www.cairo360.com/event-new/haytham-shaker-at-alkhima-tent/
LOCATION:AlKhima Tent
CATEGORIES:Arts & Culture
ATTACH;FMTTYPE=image/jpeg:https://assets.cairo360.com/app/uploads/2025/03/17/SnapClip.App_484209711_17880840396256563_180988304844613243_n.jpg
END:VEVENT
END:VCALENDAR