BEGIN:VCALENDAR
VERSION:2.0
PRODID:-//Cairo 360 Guide to Cairo, Egypt - ECPv5.5.0.1//NONSGML v1.0//EN
CALSCALE:GREGORIAN
METHOD:PUBLISH
X-WR-CALNAME:Cairo 360 Guide to Cairo, Egypt
X-ORIGINAL-URL:https://www.cairo360.com
X-WR-CALDESC:Events for Cairo 360 Guide to Cairo, Egypt
BEGIN:VTIMEZONE
TZID:Europe/Helsinki
BEGIN:DAYLIGHT
TZOFFSETFROM:+0200
TZOFFSETTO:+0300
TZNAME:EEST
DTSTART:20230326T010000
END:DAYLIGHT
BEGIN:STANDARD
TZOFFSETFROM:+0300
TZOFFSETTO:+0200
TZNAME:EET
DTSTART:20231029T010000
END:STANDARD
END:VTIMEZONE
BEGIN:VEVENT
DTSTART;TZID=Europe/Helsinki:20230502T210000
DTEND;TZID=Europe/Helsinki:20230502T210000
DTSTAMP:20260423T013050
CREATED:20230429T144053Z
LAST-MODIFIED:20230429T144130Z
UID:1732363-1683061200-1683061200@www.cairo360.com
SUMMARY:Irtigalia at CJC 610
DESCRIPTION:Come watch the best improvisation actors in town\, Irtigalia\, as they take over the stage with an unmissable performance – on Tuesday May 2nd! Founded by Ramsi Lehner\, Irtigalia is a one-of-a-kind performance where you control the show.
URL:https://www.cairo360.com/event-new/irtigalia-at-cjc-610-2/
LOCATION:Cairo Jazz Club 610\, El Guezira Plaza\, Sheikh Zayed Cairo\, Cairo\, Egypt
CATEGORIES:Arts & Culture,Nightlife
ATTACH;FMTTYPE=image/png:https://assets.cairo360.com/app/uploads/2023/04/29/Screenshot-2023-04-29-162954.png
END:VEVENT
END:VCALENDAR