BEGIN:VCALENDAR
VERSION:2.0
PRODID:-//Cairo 360 Guide to Cairo, Egypt - ECPv5.5.0.1//NONSGML v1.0//EN
CALSCALE:GREGORIAN
METHOD:PUBLISH
X-WR-CALNAME:Cairo 360 Guide to Cairo, Egypt
X-ORIGINAL-URL:https://www.cairo360.com
X-WR-CALDESC:Events for Cairo 360 Guide to Cairo, Egypt
BEGIN:VTIMEZONE
TZID:Europe/Helsinki
BEGIN:DAYLIGHT
TZOFFSETFROM:+0200
TZOFFSETTO:+0300
TZNAME:EEST
DTSTART:20240331T010000
END:DAYLIGHT
BEGIN:STANDARD
TZOFFSETFROM:+0300
TZOFFSETTO:+0200
TZNAME:EET
DTSTART:20241027T010000
END:STANDARD
END:VTIMEZONE
BEGIN:VEVENT
DTSTART;TZID=Europe/Helsinki:20241212T200000
DTEND;TZID=Europe/Helsinki:20241212T233000
DTSTAMP:20260423T195812
CREATED:20241211T042358Z
LAST-MODIFIED:20241211T042358Z
UID:1773884-1734033600-1734046200@www.cairo360.com
SUMMARY:Junior\, Arodes & Ashmawy at CJC 610
DESCRIPTION:CJC 610 is turning up the heat on Thursday\, December 12th\, with the iconic Arodes taking centre stage! Famed for his deep and melodic soundscapes that captivate the heart and electrify the dancefloor\, Arodes promises a musical journey like no other. Adding to the excitement\, Junior and Ashmawy will keep the energy soaring with their dynamic sets. \nFor more information\, click here.
URL:https://www.cairo360.com/event-new/junior-arodes-ashmawy-at-cjc-610/
LOCATION:Cairo Jazz Club 610\, El Guezira Plaza\, Sheikh Zayed Cairo\, Cairo\, Egypt
CATEGORIES:Music,Nightlife
ATTACH;FMTTYPE=image/jpeg:https://assets.cairo360.com/app/uploads/2024/12/11/4fb7fa78b521c019be423c6f86c945d1.jpg
END:VEVENT
END:VCALENDAR