BEGIN:VCALENDAR
VERSION:2.0
PRODID:-//Cairo 360 Guide to Cairo, Egypt - ECPv5.5.0.1//NONSGML v1.0//EN
CALSCALE:GREGORIAN
METHOD:PUBLISH
X-WR-CALNAME:Cairo 360 Guide to Cairo, Egypt
X-ORIGINAL-URL:https://www.cairo360.com
X-WR-CALDESC:Events for Cairo 360 Guide to Cairo, Egypt
BEGIN:VTIMEZONE
TZID:Europe/Helsinki
BEGIN:DAYLIGHT
TZOFFSETFROM:+0200
TZOFFSETTO:+0300
TZNAME:EEST
DTSTART:20220327T010000
END:DAYLIGHT
BEGIN:STANDARD
TZOFFSETFROM:+0300
TZOFFSETTO:+0200
TZNAME:EET
DTSTART:20221030T010000
END:STANDARD
END:VTIMEZONE
BEGIN:VEVENT
DTSTART;TZID=Europe/Helsinki:20220228T210000
DTEND;TZID=Europe/Helsinki:20220301T010000
DTSTAMP:20260423T121321
CREATED:20220227T150931Z
LAST-MODIFIED:20220227T150931Z
UID:1702954-1646082000-1646096400@www.cairo360.com
SUMMARY:Khaled Yousry at The Tap Maadi
DESCRIPTION:The Tap Maadi is giving its decks to Khaled Youssry for another #BreakALeg crazy night! The DJ will be playing his groovy disco beats and catchy house rhythms\, so be sure to be there to party all night long! \nThis party is on Monday the 28th of February and you can easily reserve your spot by shooting them a message on their Facebook page.
URL:https://www.cairo360.com/event-new/khaled-yousry-at-the-tap-maadi/
LOCATION:The Tap Maadi\, Road 257\, Building 17\, Maadi\, Cairo\, Egypt
CATEGORIES:Bar,Music,Nightlife
ATTACH;FMTTYPE=image/jpeg:https://assets.cairo360.com/app/uploads/2022/02/27/274783285_2943927705832112_7641450893230030841_n.jpg
END:VEVENT
END:VCALENDAR