BEGIN:VCALENDAR
VERSION:2.0
PRODID:-//Cairo 360 Guide to Cairo, Egypt - ECPv5.5.0.1//NONSGML v1.0//EN
CALSCALE:GREGORIAN
METHOD:PUBLISH
X-WR-CALNAME:Cairo 360 Guide to Cairo, Egypt
X-ORIGINAL-URL:https://www.cairo360.com
X-WR-CALDESC:Events for Cairo 360 Guide to Cairo, Egypt
BEGIN:VTIMEZONE
TZID:Europe/Helsinki
BEGIN:DAYLIGHT
TZOFFSETFROM:+0200
TZOFFSETTO:+0300
TZNAME:EEST
DTSTART:20250330T010000
END:DAYLIGHT
BEGIN:STANDARD
TZOFFSETFROM:+0300
TZOFFSETTO:+0200
TZNAME:EET
DTSTART:20251026T010000
END:STANDARD
END:VTIMEZONE
BEGIN:VEVENT
DTSTART;TZID=Europe/Helsinki:20250606T200000
DTEND;TZID=Europe/Helsinki:20250614T230000
DTSTAMP:20260422T185544
CREATED:20250530T213900Z
LAST-MODIFIED:20250530T213900Z
UID:1785886-1749240000-1749942000@www.cairo360.com
SUMMARY:La Casa Experience: Season 4 at IOS Village\, North Coast
DESCRIPTION:La Casa Season returns from June 6th to June 14th with incredible live shows and belly dancing at IOS Village\, North Coast. \nFor more information\, hit this link!
URL:https://www.cairo360.com/event-new/la-casa-experience-season-4-at-ios-village-north-coast/
LOCATION:IOS Village Km 126\, North Coast
CATEGORIES:Arts & Culture
ATTACH;FMTTYPE=image/jpeg:https://assets.cairo360.com/app/uploads/2025/05/30/SnapClip.App_500927163_18500202967009533_7066724876512689992_n.jpg
END:VEVENT
END:VCALENDAR