BEGIN:VCALENDAR
VERSION:2.0
PRODID:-//Cairo 360 Guide to Cairo, Egypt - ECPv5.5.0.1//NONSGML v1.0//EN
CALSCALE:GREGORIAN
METHOD:PUBLISH
X-WR-CALNAME:Cairo 360 Guide to Cairo, Egypt
X-ORIGINAL-URL:https://www.cairo360.com
X-WR-CALDESC:Events for Cairo 360 Guide to Cairo, Egypt
BEGIN:VTIMEZONE
TZID:Europe/Helsinki
BEGIN:DAYLIGHT
TZOFFSETFROM:+0200
TZOFFSETTO:+0300
TZNAME:EEST
DTSTART:20240331T010000
END:DAYLIGHT
BEGIN:STANDARD
TZOFFSETFROM:+0300
TZOFFSETTO:+0200
TZNAME:EET
DTSTART:20241027T010000
END:STANDARD
END:VTIMEZONE
BEGIN:VEVENT
DTSTART;TZID=Europe/Helsinki:20240308T140000
DTEND;TZID=Europe/Helsinki:20240308T233000
DTSTAMP:20260426T002739
CREATED:20240305T215823Z
LAST-MODIFIED:20240305T215823Z
UID:1753925-1709906400-1709940600@www.cairo360.com
SUMMARY:Lost Tribes at Sangria New Cairo
DESCRIPTION:Don’t miss out on the vibrant celebration at Sangria New Cairo this Friday\, featuring dancing till dawn and a lineup of spectacular shows. It’s your chance to experience a vibrant fusion of cultures and bid farewell to the season in style. Hit this link to know more!
URL:https://www.cairo360.com/event-new/lost-tribes-at-sangria-new-cairo/
LOCATION:Sangria
CATEGORIES:Music,Nightlife
ATTACH;FMTTYPE=image/jpeg:https://assets.cairo360.com/app/uploads/2024/03/05/Mobile-Banner.jpeg
END:VEVENT
END:VCALENDAR