BEGIN:VCALENDAR
VERSION:2.0
PRODID:-//Cairo 360 Guide to Cairo, Egypt - ECPv5.5.0.1//NONSGML v1.0//EN
CALSCALE:GREGORIAN
METHOD:PUBLISH
X-WR-CALNAME:Cairo 360 Guide to Cairo, Egypt
X-ORIGINAL-URL:https://www.cairo360.com
X-WR-CALDESC:Events for Cairo 360 Guide to Cairo, Egypt
BEGIN:VTIMEZONE
TZID:Europe/Helsinki
BEGIN:DAYLIGHT
TZOFFSETFROM:+0200
TZOFFSETTO:+0300
TZNAME:EEST
DTSTART:20240331T010000
END:DAYLIGHT
BEGIN:STANDARD
TZOFFSETFROM:+0300
TZOFFSETTO:+0200
TZNAME:EET
DTSTART:20241027T010000
END:STANDARD
END:VTIMEZONE
BEGIN:VEVENT
DTSTART;TZID=Europe/Helsinki:20240530T200000
DTEND;TZID=Europe/Helsinki:20240530T233000
DTSTAMP:20260420T054302
CREATED:20240528T150438Z
LAST-MODIFIED:20240528T150438Z
UID:1759887-1717099200-1717111800@www.cairo360.com
SUMMARY:Marwan Moussa & Aziz Maraka at Zed Park
DESCRIPTION:Prepare for a spectacular night with Marwan Moussa & Aziz Maraka in 3awdet Batal 3alam Concert at Zed Park! \nFor more information\, hit this link!
URL:https://www.cairo360.com/event-new/marwan-moussa-aziz-maraka-at-zed-park/
LOCATION:ZED Park
CATEGORIES:Music
ATTACH;FMTTYPE=image/jpeg:https://assets.cairo360.com/app/uploads/2024/05/28/ffc1b6bcbb70120475eedd493505e597.jpg
END:VEVENT
END:VCALENDAR