BEGIN:VCALENDAR
VERSION:2.0
PRODID:-//Cairo 360 Guide to Cairo, Egypt - ECPv5.5.0.1//NONSGML v1.0//EN
CALSCALE:GREGORIAN
METHOD:PUBLISH
X-WR-CALNAME:Cairo 360 Guide to Cairo, Egypt
X-ORIGINAL-URL:https://www.cairo360.com
X-WR-CALDESC:Events for Cairo 360 Guide to Cairo, Egypt
BEGIN:VTIMEZONE
TZID:Europe/Helsinki
BEGIN:DAYLIGHT
TZOFFSETFROM:+0200
TZOFFSETTO:+0300
TZNAME:EEST
DTSTART:20250330T010000
END:DAYLIGHT
BEGIN:STANDARD
TZOFFSETFROM:+0300
TZOFFSETTO:+0200
TZNAME:EET
DTSTART:20251026T010000
END:STANDARD
END:VTIMEZONE
BEGIN:VEVENT
DTSTART;TZID=Europe/Helsinki:20250902T210000
DTEND;TZID=Europe/Helsinki:20250902T235900
DTSTAMP:20260422T093624
CREATED:20250902T001354Z
LAST-MODIFIED:20250902T003950Z
UID:1792766-1756846800-1756857540@www.cairo360.com
SUMMARY:Mawled El Nabawy El Sharif Celebration at Cairo Opera House
DESCRIPTION:Be part of Mawled El Nabawy El Sharif Celebration at Cairo Opera House on Tuesday\, September 2. \nFor more information\, hit this link!
URL:https://www.cairo360.com/event-new/mawled-el-nabawy-el-sharif-celebration-at-cairo-opera-house/
LOCATION:Cairo Opera House\, Ard El Opera - Gezira - Zamalek Cairo Opera House Cairo\,\, Cairo\, 11567\, Egypt
CATEGORIES:Arts & Culture
ATTACH;FMTTYPE=image/png:https://assets.cairo360.com/app/uploads/2025/09/02/EL-Mawled-El-Nabawy-El-Sharif-Celebration.png
END:VEVENT
END:VCALENDAR