BEGIN:VCALENDAR
VERSION:2.0
PRODID:-//Cairo 360 Guide to Cairo, Egypt - ECPv5.5.0.1//NONSGML v1.0//EN
CALSCALE:GREGORIAN
METHOD:PUBLISH
X-WR-CALNAME:Cairo 360 Guide to Cairo, Egypt
X-ORIGINAL-URL:https://www.cairo360.com
X-WR-CALDESC:Events for Cairo 360 Guide to Cairo, Egypt
BEGIN:VTIMEZONE
TZID:Europe/Helsinki
BEGIN:DAYLIGHT
TZOFFSETFROM:+0200
TZOFFSETTO:+0300
TZNAME:EEST
DTSTART:20260329T010000
END:DAYLIGHT
BEGIN:STANDARD
TZOFFSETFROM:+0300
TZOFFSETTO:+0200
TZNAME:EET
DTSTART:20261025T010000
END:STANDARD
END:VTIMEZONE
BEGIN:VEVENT
DTSTART;TZID=Europe/Helsinki:20260423T200000
DTEND;TZID=Europe/Helsinki:20260423T230000
DTSTAMP:20260424T022823
CREATED:20260423T144800Z
LAST-MODIFIED:20260423T144800Z
UID:1805751-1776974400-1776985200@www.cairo360.com
SUMMARY:MAZEN A & BOU-D at The Rec Room
DESCRIPTION:Mazen A & Bou-D take over The Rec Room on Thursday\, April 23 with their signature sound\, packed with bangers and hidden gems. \nFor more information\, hit this link!
URL:https://www.cairo360.com/event-new/mazen-a-bou-d-at-the-rec-room/
LOCATION:The Rec Room
CATEGORIES:Arts & Culture
ATTACH;FMTTYPE=image/jpeg:https://assets.cairo360.com/app/uploads/2026/04/23/FastDl.dev_671174152_17920023282336807_5193670826033887174_n.jpg
END:VEVENT
END:VCALENDAR