BEGIN:VCALENDAR
VERSION:2.0
PRODID:-//Cairo 360 Guide to Cairo, Egypt - ECPv5.5.0.1//NONSGML v1.0//EN
CALSCALE:GREGORIAN
METHOD:PUBLISH
X-WR-CALNAME:Cairo 360 Guide to Cairo, Egypt
X-ORIGINAL-URL:https://www.cairo360.com
X-WR-CALDESC:Events for Cairo 360 Guide to Cairo, Egypt
BEGIN:VTIMEZONE
TZID:Europe/Helsinki
BEGIN:DAYLIGHT
TZOFFSETFROM:+0200
TZOFFSETTO:+0300
TZNAME:EEST
DTSTART:20240331T010000
END:DAYLIGHT
BEGIN:STANDARD
TZOFFSETFROM:+0300
TZOFFSETTO:+0200
TZNAME:EET
DTSTART:20241027T010000
END:STANDARD
END:VTIMEZONE
BEGIN:VEVENT
DTSTART;TZID=Europe/Helsinki:20240107T200000
DTEND;TZID=Europe/Helsinki:20240107T223000
DTSTAMP:20260422T131755
CREATED:20240103T101912Z
LAST-MODIFIED:20240103T101912Z
UID:1747840-1704657600-1704666600@www.cairo360.com
SUMMARY:Medhat Saleh with Cine Symphony Orchestra
DESCRIPTION:Start the new year with a unique night listening to Medhat Saleh with Cine Symphony Orchestra by conductor Ahmed Oweda. Get your tickets now! \n 
URL:https://www.cairo360.com/event-new/medhat-saleh-with-cine-symphony-orchestra/
LOCATION:main hall
CATEGORIES:Music
ATTACH;FMTTYPE=image/jpeg:https://assets.cairo360.com/app/uploads/2024/01/01/1b775fbc-1a7d-4c82-b15e-c7a3cd029958.jpeg
END:VEVENT
END:VCALENDAR