BEGIN:VCALENDAR
VERSION:2.0
PRODID:-//Cairo 360 Guide to Cairo, Egypt - ECPv5.5.0.1//NONSGML v1.0//EN
CALSCALE:GREGORIAN
METHOD:PUBLISH
X-WR-CALNAME:Cairo 360 Guide to Cairo, Egypt
X-ORIGINAL-URL:https://www.cairo360.com
X-WR-CALDESC:Events for Cairo 360 Guide to Cairo, Egypt
BEGIN:VTIMEZONE
TZID:Europe/Helsinki
BEGIN:DAYLIGHT
TZOFFSETFROM:+0200
TZOFFSETTO:+0300
TZNAME:EEST
DTSTART:20230326T010000
END:DAYLIGHT
BEGIN:STANDARD
TZOFFSETFROM:+0300
TZOFFSETTO:+0200
TZNAME:EET
DTSTART:20231029T010000
END:STANDARD
END:VTIMEZONE
BEGIN:VEVENT
DTSTART;TZID=Europe/Helsinki:20230320T210000
DTEND;TZID=Europe/Helsinki:20230320T210000
DTSTAMP:20260424T003539
CREATED:20230319T164213Z
LAST-MODIFIED:20230319T164213Z
UID:1729367-1679346000-1679346000@www.cairo360.com
SUMMARY:Mohasseb at CJC
DESCRIPTION:Join CJC for one last Closed Circuit before we go on a one month break at CJC this Monday! Dance all night long veteran DJ Mohasseb’s signature beats from start to finish.
URL:https://www.cairo360.com/event-new/mohasseb-at-cjc/
LOCATION:Cairo Jazz Club\, 197 A\, 26th of July St Cairo\, Cairo\, 12654\, Egypt
CATEGORIES:Club,Nightlife
ATTACH;FMTTYPE=image/png:https://assets.cairo360.com/app/uploads/2023/03/19/Screenshot-2023-03-19-183936.png
END:VEVENT
END:VCALENDAR