BEGIN:VCALENDAR
VERSION:2.0
PRODID:-//Cairo 360 Guide to Cairo, Egypt - ECPv5.5.0.1//NONSGML v1.0//EN
CALSCALE:GREGORIAN
METHOD:PUBLISH
X-WR-CALNAME:Cairo 360 Guide to Cairo, Egypt
X-ORIGINAL-URL:https://www.cairo360.com
X-WR-CALDESC:Events for Cairo 360 Guide to Cairo, Egypt
BEGIN:VTIMEZONE
TZID:Europe/Helsinki
BEGIN:DAYLIGHT
TZOFFSETFROM:+0200
TZOFFSETTO:+0300
TZNAME:EEST
DTSTART:20210328T010000
END:DAYLIGHT
BEGIN:STANDARD
TZOFFSETFROM:+0300
TZOFFSETTO:+0200
TZNAME:EET
DTSTART:20211031T010000
END:STANDARD
END:VTIMEZONE
BEGIN:VEVENT
DTSTART;TZID=Europe/Helsinki:20210915T213000
DTEND;TZID=Europe/Helsinki:20210916T010000
DTSTAMP:20260425T140631
CREATED:20210901T152338Z
LAST-MODIFIED:20210902T061302Z
UID:1684789-1631741400-1631754000@www.cairo360.com
SUMMARY:Noha Fekry at Kempinski Nile Hotel Cairo's Jazz Bar
DESCRIPTION:Head to the Jazz Bar at Kempinski Nile Hotel Cairo to enjoy a fantastic evening by the talented Noha Fekry. \nFor more information\, call 0227980000.
URL:https://www.cairo360.com/event-new/noha-fekry-at-kempinski-nile-hotel-cairos-jazz-bar-2021-09-15/
LOCATION:the Jazz Bar – Kempinski Nile Hotel Cairo
CATEGORIES:Compilations,Music
ATTACH;FMTTYPE=image/jpeg:https://assets.cairo360.com/app/uploads/2021/09/01/11.jpg
END:VEVENT
END:VCALENDAR