BEGIN:VCALENDAR
VERSION:2.0
PRODID:-//Cairo 360 Guide to Cairo, Egypt - ECPv5.5.0.1//NONSGML v1.0//EN
CALSCALE:GREGORIAN
METHOD:PUBLISH
X-WR-CALNAME:Cairo 360 Guide to Cairo, Egypt
X-ORIGINAL-URL:https://www.cairo360.com
X-WR-CALDESC:Events for Cairo 360 Guide to Cairo, Egypt
BEGIN:VTIMEZONE
TZID:Europe/Helsinki
BEGIN:DAYLIGHT
TZOFFSETFROM:+0200
TZOFFSETTO:+0300
TZNAME:EEST
DTSTART:20240331T010000
END:DAYLIGHT
BEGIN:STANDARD
TZOFFSETFROM:+0300
TZOFFSETTO:+0200
TZNAME:EET
DTSTART:20241027T010000
END:STANDARD
END:VTIMEZONE
BEGIN:VEVENT
DTSTART;TZID=Europe/Helsinki:20241219T210000
DTEND;TZID=Europe/Helsinki:20241229T230000
DTSTAMP:20260422T132023
CREATED:20241218T050642Z
LAST-MODIFIED:20241218T050642Z
UID:1774336-1734642000-1735513200@www.cairo360.com
SUMMARY:Not Romeo & Juliette Play Egyptian National Theater
DESCRIPTION:Delve into this theatrical performance of “Mish Romeo wa Juliet” at the Egyptian National Theatre from December 19th to 29th.  \nFor more information\, click here. \n  \n 
URL:https://www.cairo360.com/event-new/not-romeo-juliette-play-egyptian-national-theater/
LOCATION:Egyptian National Theater
ATTACH;FMTTYPE=image/jpeg:https://assets.cairo360.com/app/uploads/2024/12/18/468599353_1135520087934789_2277219837045968186_n.jpg
END:VEVENT
END:VCALENDAR