BEGIN:VCALENDAR
VERSION:2.0
PRODID:-//Cairo 360 Guide to Cairo, Egypt - ECPv5.5.0.1//NONSGML v1.0//EN
CALSCALE:GREGORIAN
METHOD:PUBLISH
X-WR-CALNAME:Cairo 360 Guide to Cairo, Egypt
X-ORIGINAL-URL:https://www.cairo360.com
X-WR-CALDESC:Events for Cairo 360 Guide to Cairo, Egypt
BEGIN:VTIMEZONE
TZID:Europe/Helsinki
BEGIN:DAYLIGHT
TZOFFSETFROM:+0200
TZOFFSETTO:+0300
TZNAME:EEST
DTSTART:20260329T010000
END:DAYLIGHT
BEGIN:STANDARD
TZOFFSETFROM:+0300
TZOFFSETTO:+0200
TZNAME:EET
DTSTART:20261025T010000
END:STANDARD
END:VTIMEZONE
BEGIN:VEVENT
DTSTART;TZID=Europe/Helsinki:20260301T203000
DTEND;TZID=Europe/Helsinki:20260301T234500
DTSTAMP:20260422T014915
CREATED:20260301T055839Z
LAST-MODIFIED:20260301T055839Z
UID:1803108-1772397000-1772408700@www.cairo360.com
SUMMARY:Ramadan Evenings ft. Nour El Nabi Ensemble at Arabic Music Institute
DESCRIPTION:Spend Ramadan Evenings with Nour El Nabi Religious Song Ensemble at the Arabic Music Institute on Sunday\, March 1. \nFor more information\, hit this link!
URL:https://www.cairo360.com/event-new/ramadan-evenings-ft-nour-el-nabi-ensemble-at-arabic-music-institute/
LOCATION:Arabic Music Institute\, cairo\, Egypt
CATEGORIES:Arts & Culture
ATTACH;FMTTYPE=image/png:https://assets.cairo360.com/app/uploads/2026/03/01/Ramadan-Evenings-Nour-El-Nabi-Religious-Song-Ensemble-1-March.png
END:VEVENT
END:VCALENDAR