BEGIN:VCALENDAR
VERSION:2.0
PRODID:-//Cairo 360 Guide to Cairo, Egypt - ECPv5.5.0.1//NONSGML v1.0//EN
CALSCALE:GREGORIAN
METHOD:PUBLISH
X-WR-CALNAME:Cairo 360 Guide to Cairo, Egypt
X-ORIGINAL-URL:https://www.cairo360.com
X-WR-CALDESC:Events for Cairo 360 Guide to Cairo, Egypt
BEGIN:VTIMEZONE
TZID:Europe/Helsinki
BEGIN:DAYLIGHT
TZOFFSETFROM:+0200
TZOFFSETTO:+0300
TZNAME:EEST
DTSTART:20230326T010000
END:DAYLIGHT
BEGIN:STANDARD
TZOFFSETFROM:+0300
TZOFFSETTO:+0200
TZNAME:EET
DTSTART:20231029T010000
END:STANDARD
END:VTIMEZONE
BEGIN:VEVENT
DTSTART;TZID=Europe/Helsinki:20230609T200000
DTEND;TZID=Europe/Helsinki:20230609T233000
DTSTAMP:20260424T142728
CREATED:20230607T101948Z
LAST-MODIFIED:20230607T101948Z
UID:1734959-1686340800-1686353400@www.cairo360.com
SUMMARY:Rashad Fahim Quartet at Room Art Space Garden City
DESCRIPTION:This one is for the music lovers and the ones with broad tastes! The musical ensemble Rashad Fahim Quartet will have the air at Room Art Space Garden City swelling with the sounds of Latin\, Swing\, Bebop and modern-style music. Don’t miss an incredible night of jamming! \nFor more info\, click here. 
URL:https://www.cairo360.com/event-new/rashad-fahim-quartet-at-room-art-space-garden-city/
LOCATION:ROOM Art Space Garden City\, 10 Etehaad Al Mohamin st.\, Garden City\, Cairo\, 11562
CATEGORIES:Arts & Culture,Music,Nightlife
ATTACH;FMTTYPE=image/jpeg:https://assets.cairo360.com/app/uploads/2023/06/07/351025674_6116711075108821_7764733344380973118_n.jpg
ORGANIZER;CN="Room%20Art%20Space%20Garden%20City":MAILTO:roomartspace@gmail.com
END:VEVENT
END:VCALENDAR