BEGIN:VCALENDAR
VERSION:2.0
PRODID:-//Cairo 360 Guide to Cairo, Egypt - ECPv5.5.0.1//NONSGML v1.0//EN
CALSCALE:GREGORIAN
METHOD:PUBLISH
X-WR-CALNAME:Cairo 360 Guide to Cairo, Egypt
X-ORIGINAL-URL:https://www.cairo360.com
X-WR-CALDESC:Events for Cairo 360 Guide to Cairo, Egypt
BEGIN:VTIMEZONE
TZID:Europe/Helsinki
BEGIN:DAYLIGHT
TZOFFSETFROM:+0200
TZOFFSETTO:+0300
TZNAME:EEST
DTSTART:20240331T010000
END:DAYLIGHT
BEGIN:STANDARD
TZOFFSETFROM:+0300
TZOFFSETTO:+0200
TZNAME:EET
DTSTART:20241027T010000
END:STANDARD
END:VTIMEZONE
BEGIN:VEVENT
DTSTART;TZID=Europe/Helsinki:20240704T190000
DTEND;TZID=Europe/Helsinki:20240704T233000
DTSTAMP:20260423T232745
CREATED:20240702T073830Z
LAST-MODIFIED:20240702T073830Z
UID:1762733-1720119600-1720135800@www.cairo360.com
SUMMARY:Rima\, The Cadillacs & Soul Street at The Tap South
DESCRIPTION:The Tap South will ensure your 4th of July to be a unique one with Rima\, The Cadillacs & Soul Street leading the night away. Hit this link to know more! \n 
URL:https://www.cairo360.com/event-new/rima-the-cadillacs-soul-street-at-the-tap-south/
LOCATION:The Tap South
CATEGORIES:Music,Nightlife
ATTACH;FMTTYPE=image/jpeg:https://assets.cairo360.com/app/uploads/2024/07/02/449615827_17909246897976539_5523977016066993314_n.jpg
END:VEVENT
END:VCALENDAR