BEGIN:VCALENDAR
VERSION:2.0
PRODID:-//Cairo 360 Guide to Cairo, Egypt - ECPv5.5.0.1//NONSGML v1.0//EN
CALSCALE:GREGORIAN
METHOD:PUBLISH
X-WR-CALNAME:Cairo 360 Guide to Cairo, Egypt
X-ORIGINAL-URL:https://www.cairo360.com
X-WR-CALDESC:Events for Cairo 360 Guide to Cairo, Egypt
BEGIN:VTIMEZONE
TZID:Europe/Helsinki
BEGIN:DAYLIGHT
TZOFFSETFROM:+0200
TZOFFSETTO:+0300
TZNAME:EEST
DTSTART:20240331T010000
END:DAYLIGHT
BEGIN:STANDARD
TZOFFSETFROM:+0300
TZOFFSETTO:+0200
TZNAME:EET
DTSTART:20241027T010000
END:STANDARD
END:VTIMEZONE
BEGIN:VEVENT
DTSTART;TZID=Europe/Helsinki:20240614T190000
DTEND;TZID=Europe/Helsinki:20240614T233000
DTSTAMP:20260420T092220
CREATED:20240611T101702Z
LAST-MODIFIED:20240611T101702Z
UID:1761385-1718391600-1718407800@www.cairo360.com
SUMMARY:Sherry Mamdouh at The Tap East
DESCRIPTION:Taking over the stage is Sherry Mamdouh at The Tap East. Hit this link to know more! \n 
URL:https://www.cairo360.com/event-new/sherry-mamdouh-at-the-tap-east/
LOCATION:The Tap East\, 9 Mohamed Naguib St.\, Stella New Cairo\, Cairo\, Egypt
CATEGORIES:Music,Nightlife
ATTACH;FMTTYPE=image/jpeg:https://assets.cairo360.com/app/uploads/2024/06/11/sherry-mamdouh.jpg
END:VEVENT
END:VCALENDAR