BEGIN:VCALENDAR
VERSION:2.0
PRODID:-//Cairo 360 Guide to Cairo, Egypt - ECPv5.5.0.1//NONSGML v1.0//EN
CALSCALE:GREGORIAN
METHOD:PUBLISH
X-WR-CALNAME:Cairo 360 Guide to Cairo, Egypt
X-ORIGINAL-URL:https://www.cairo360.com
X-WR-CALDESC:Events for Cairo 360 Guide to Cairo, Egypt
BEGIN:VTIMEZONE
TZID:Europe/Helsinki
BEGIN:DAYLIGHT
TZOFFSETFROM:+0200
TZOFFSETTO:+0300
TZNAME:EEST
DTSTART:20250330T010000
END:DAYLIGHT
BEGIN:STANDARD
TZOFFSETFROM:+0300
TZOFFSETTO:+0200
TZNAME:EET
DTSTART:20251026T010000
END:STANDARD
END:VTIMEZONE
BEGIN:VEVENT
DTSTART;TZID=Europe/Helsinki:20250902T210000
DTEND;TZID=Europe/Helsinki:20250903T010000
DTSTAMP:20260424T154631
CREATED:20250901T233631Z
LAST-MODIFIED:20250901T233631Z
UID:1792760-1756846800-1756861200@www.cairo360.com
SUMMARY:Sherry Mamdouh & Timmy at The Brasserie Lakeview\, New Cairo
DESCRIPTION:Enjoy your Tuesday with Sherry Mamdouh and DJ Timmy at The Brasserie Lakeview\, New Cairo on September 2. \nFor more information\, hit this link!
URL:https://www.cairo360.com/event-new/sherry-mamdouh-timmy-at-the-brasserie-lakeview-new-cairo/
LOCATION:The Brasserie Lakeview\, New Cairo
CATEGORIES:Arts & Culture
ATTACH;FMTTYPE=image/jpeg:https://assets.cairo360.com/app/uploads/2025/09/02/SnapClip.App_541470287_17955967899003520_6328847696770049813_n.jpg
END:VEVENT
END:VCALENDAR